View In:
ArcGIS JavaScript
ArcGIS Online Map Viewer
ArcGIS Earth
ArcMap
View Footprint In:
ArcGIS Online Map Viewer
Service Description: SpecMap shows relative specral variability based on Worldview 8-band imagery. This product covers part of the Central Transantarctic Mountains.
Name: projects/ant_specmap_rsv
Description: SpecMap shows relative specral variability based on Worldview 8-band imagery. This product covers part of the Central Transantarctic Mountains.
Single Fused Map Cache: false
Extent:
XMin: -149630.189323
YMin: -680884.403655
XMax: 110264.810677
YMax: -477209.403655
Spatial Reference: 3031
(3031)
Initial Extent:
XMin: -149630.189323
YMin: -680884.403655
XMax: 110264.810677
YMax: -477209.403655
Spatial Reference: 3031
(3031)
Full Extent:
XMin: -149630.189323
YMin: -680884.403655
XMax: 110264.810677
YMax: -477209.403655
Spatial Reference: 3031
(3031)
Pixel Size X: 5.0
Pixel Size Y: 5.000000000000002
Band Count: 3
Pixel Type: U8
RasterFunction Infos: {"rasterFunctionInfos": [{
"name": "None",
"description": "A No-Op Function.",
"help": ""
}]}
Mensuration Capabilities: None
Has Histograms: true
Has Colormap: false
Has Multi Dimensions : false
Rendering Rule:
Min Scale: 0
Max Scale: 0
Copyright Text:
Service Data Type: esriImageServiceDataTypeRGB
Min Values: 1, 1, 1
Max Values: 233, 230, 255
Mean Values: 190.76724756105747, 138.07057333995746, 141.88920505532568
Standard Deviation Values: 7.049038446390604, 6.666020052472156, 3.892902141949104
Object ID Field: objectid
Fields:
-
objectid
(
type: esriFieldTypeOID, alias: objectid
)
-
category
(
type: esriFieldTypeInteger, alias: Category
, Coded Values:
[0: Unknown]
, [1: Primary]
, [2: Overview]
, ...6 more...
)
-
productname
(
type: esriFieldTypeString, alias: productname, length: 50
)
-
centerx
(
type: esriFieldTypeDouble, alias: centerx
)
-
centery
(
type: esriFieldTypeDouble, alias: centery
)
-
imagedate
(
type: esriFieldTypeString, alias: imagedate, length: 50
)
-
catalogid
(
type: esriFieldTypeString, alias: catalogid, length: 50
)
-
shape
(
type: esriFieldTypeGeometry, alias: shape
)
Default Mosaic Method: Northwest
Allowed Mosaic Methods: NorthWest,Center,LockRaster,ByAttribute,Nadir,Viewpoint,Seamline,None
SortField:
SortValue: null
Mosaic Operator: First
Default Compression Quality: 75
Default Resampling Method: Nearest
Max Record Count: 1000
Max Image Height: 4100
Max Image Width: 15000
Max Download Image Count: 20
Max Mosaic Image Count: 100
Allow Raster Function: true
Allow Copy: true
Allow Analysis: true
Allow Compute TiePoints: false
Supports Statistics: true
Supports Advanced Queries: true
Use StandardizedQueries: true
Raster Type Infos:
Name: Raster Dataset
Description: Supports all ArcGIS Raster Datasets
Help:
Has Raster Attribute Table: false
Edit Fields Info: null
Ownership Based AccessControl For Rasters: null
Child Resources:
Info
Histograms
Statistics
Key Properties
Legend
Raster Function Infos
Supported Operations:
Export Image
Query
Identify
Compute Histograms
Compute Statistics Histograms
Get Samples
Compute Class Statistics
Query Boundary
Compute Pixel Location
Compute Angles
Validate
Project