{
 "currentVersion": 10.91,
 "serviceDescription": "SpecMap shows relative specral variability based on Worldview 8-band imagery. This product covers part of the Central Transantarctic Mountains.",
 "name": "projects/ant_specmap_rsv",
 "description": "SpecMap shows relative specral variability based on Worldview 8-band imagery. This product covers part of the Central Transantarctic Mountains.",
 "extent": {
  "xmin": -149630.189323,
  "ymin": -680884.403655,
  "xmax": 110264.810677,
  "ymax": -477209.403655,
  "spatialReference": {
   "wkid": 3031,
   "latestWkid": 3031
  }
 },
 "initialExtent": {
  "xmin": -149630.189323,
  "ymin": -680884.403655,
  "xmax": 110264.810677,
  "ymax": -477209.403655,
  "spatialReference": {
   "wkid": 3031,
   "latestWkid": 3031
  }
 },
 "fullExtent": {
  "xmin": -149630.189323,
  "ymin": -680884.403655,
  "xmax": 110264.810677,
  "ymax": -477209.403655,
  "spatialReference": {
   "wkid": 3031,
   "latestWkid": 3031
  }
 },
 "hasMultidimensions": false,
 "pixelSizeX": 5,
 "pixelSizeY": 5.000000000000002,
 "datasetFormat": "AMD",
 "uncompressedSize": 6352093695,
 "blockWidth": 2048,
 "blockHeight": 256,
 "compressionType": "None",
 "bandNames": [
  "Band_1",
  "Band_2",
  "Band_3"
 ],
 "allowCopy": true,
 "allowAnalysis": true,
 "bandCount": 3,
 "pixelType": "U8",
 "minPixelSize": 0,
 "maxPixelSize": 0,
 "copyrightText": "",
 "serviceDataType": "esriImageServiceDataTypeRGB",
 "serviceSourceType": "esriImageServiceSourceTypeMosaicDataset",
 "minValues": [
  1,
  1,
  1
 ],
 "maxValues": [
  233,
  230,
  255
 ],
 "meanValues": [
  190.76724756105747,
  138.07057333995746,
  141.88920505532568
 ],
 "stdvValues": [
  7.049038446390604,
  6.666020052472156,
  3.892902141949104
 ],
 "objectIdField": "objectid",
 "fields": [
  {
   "name": "objectid",
   "type": "esriFieldTypeOID",
   "alias": "objectid",
   "domain": null
  },
  {
   "name": "category",
   "type": "esriFieldTypeInteger",
   "alias": "Category",
   "domain": {
    "type": "codedValue",
    "name": "MosaicCatalogItemCategoryDomain",
    "description": "Catalog item categories.",
    "codedValues": [
     {
      "name": "Unknown",
      "code": 0
     },
     {
      "name": "Primary",
      "code": 1
     },
     {
      "name": "Overview",
      "code": 2
     },
     {
      "name": "Unprocessed Overview",
      "code": 3
     },
     {
      "name": "Partial Overview",
      "code": 4
     },
     {
      "name": "Inactive",
      "code": 5
     },
     {
      "name": "Uploaded",
      "code": 253
     },
     {
      "name": "Incomplete",
      "code": 254
     },
     {
      "name": "Custom",
      "code": 255
     }
    ],
    "mergePolicy": "esriMPTDefaultValue",
    "splitPolicy": "esriSPTDefaultValue"
   }
  },
  {
   "name": "productname",
   "type": "esriFieldTypeString",
   "alias": "productname",
   "domain": null,
   "length": 50
  },
  {
   "name": "centerx",
   "type": "esriFieldTypeDouble",
   "alias": "centerx",
   "domain": null
  },
  {
   "name": "centery",
   "type": "esriFieldTypeDouble",
   "alias": "centery",
   "domain": null
  },
  {
   "name": "imagedate",
   "type": "esriFieldTypeString",
   "alias": "imagedate",
   "domain": null,
   "length": 50
  },
  {
   "name": "catalogid",
   "type": "esriFieldTypeString",
   "alias": "catalogid",
   "domain": null,
   "length": 50
  },
  {
   "name": "shape",
   "type": "esriFieldTypeGeometry",
   "alias": "shape",
   "domain": null
  }
 ],
 "capabilities": "Catalog,Image,Metadata",
 "defaultMosaicMethod": "Northwest",
 "allowedMosaicMethods": "NorthWest,Center,LockRaster,ByAttribute,Nadir,Viewpoint,Seamline,None",
 "sortField": "",
 "sortValue": null,
 "sortAscending": true,
 "mosaicOperator": "First",
 "maxDownloadSizeLimit": 2048,
 "defaultCompressionQuality": 75,
 "defaultResamplingMethod": "Nearest",
 "maxImageHeight": 4100,
 "maxImageWidth": 15000,
 "maxRecordCount": 1000,
 "maxDownloadImageCount": 20,
 "maxMosaicImageCount": 100,
 "allowRasterFunction": true,
 "rasterFunctionInfos": [
  {
   "name": "None",
   "description": "A No-Op Function.",
   "help": ""
  }
 ],
 "rasterTypeInfos": [
  {
   "name": "Raster Dataset",
   "description": "Supports all ArcGIS Raster Datasets",
   "help": ""
  }
 ],
 "mensurationCapabilities": "None",
 "hasHistograms": true,
 "hasColormap": false,
 "hasRasterAttributeTable": false,
 "minScale": 0,
 "maxScale": 0,
 "exportTilesAllowed": false,
 "supportsStatistics": true,
 "supportsAdvancedQueries": true,
 "editFieldsInfo": null,
 "ownershipBasedAccessControlForRasters": null,
 "allowComputeTiePoints": false,
 "useStandardizedQueries": true,
 "advancedQueryCapabilities": {
  "useStandardizedQueries": true,
  "supportsStatistics": true,
  "supportsOrderBy": true,
  "supportsDistinct": true,
  "supportsPagination": true
 },
 "spatialReference": {
  "wkid": 3031,
  "latestWkid": 3031
 }
}
