View In:
ArcGIS JavaScript
ArcGIS Online Map Viewer
ArcGIS Earth
ArcMap
ArcGIS Pro
View Footprint In:
ArcGIS Online Map Viewer
Service Description: Maps are georeferenced and trimmed to map frame
Map Name: Layers
Legend
All Layers and Tables
Dynamic Legend
Dynamic All Layers
Layers:
Description: Maps are georeferenced and trimmed to map frame
Copyright Text: United States Geological Survey
Spatial Reference:
3031
(3031)
Single Fused Map Cache: true
Tile Info:
- Height: 256
- Width: 256
- DPI: 96
-
Levels of Detail: 19
-
Level ID: 0
[ Start Tile, End Tile ]
- Resolution: 238810.81335399998
- Scale: 9.0259024528771E8
-
Level ID: 1
[ Start Tile, End Tile ]
- Resolution: 119405.40667699999
- Scale: 4.51295122643855E8
-
Level ID: 2
[ Start Tile, End Tile ]
- Resolution: 59702.70333849987
- Scale: 2.25647561321927E8
-
Level ID: 3
[ Start Tile, End Tile ]
- Resolution: 29851.351669250063
- Scale: 1.12823780660964E8
-
Level ID: 4
[ Start Tile, End Tile ]
- Resolution: 14925.675834625032
- Scale: 5.6411890330482E7
-
Level ID: 5
[ Start Tile, End Tile ]
- Resolution: 7462.837917312516
- Scale: 2.8205945165241E7
-
Level ID: 6
[ Start Tile, End Tile ]
- Resolution: 3731.4189586563907
- Scale: 1.4102972582621E7
- Format: MIXED
- Compression Quality: 75.0
- Origin: X: -3.06361E7
Y: 3.0636099999999993E7
- Spatial Reference: 3031
(3031)
Storage Info:
- Storage Format: esriMapCacheStorageModeCompactV2
- Packet Size: 128
Initial Extent:
XMin: 380661.274465611
YMin: -1261244.7514117465
XMax: 426800.2946611317
YMax: -1212216.8088990834
Spatial Reference: 3031
(3031)
Full Extent:
XMin: 328913.9302355061
YMin: -1338698.5322504498
XMax: 476134.8713561191
YMax: -1184372.3488754793
Spatial Reference: 3031
(3031)
Units: esriMeters
Supported Image Format Types: PNG32,PNG24,PNG,JPG,DIB,TIFF,EMF,PS,PDF,GIF,SVG,SVGZ,BMP
Document Info:
Title: Untitled.aprx
Author:
Comments: Maps are georeferenced and trimmed to map frame
Subject: Tiled and caches map service with 1:50,000 USGS Topographic Reconnaissance Series.
Category:
Keywords: USGS;Maps;Antarctica;PGC;Polar Geospatial Center
AntialiasingMode: None
TextAntialiasingMode: Force
Supports Dynamic Layers: true
MaxRecordCount: 1000
MaxImageHeight: 4096
MaxImageWidth: 4096
Supported Query Formats: JSON, geoJSON, PBF
Supports Query Data Elements: true
Min Scale: 9.0259024528771E8
Max Scale: 3443.108541
Min LOD: 0
Max LOD: 18
Supports Datum Transformation: true
Child Resources:
Info
Dynamic Layer
Supported Operations:
Export Map
Identify
QueryLegends
QueryDomains
Find
Return Updates
Generate KML