{
 "currentVersion": 10.91,
 "cimVersion": "2.9.0",
 "serviceDescription": "Maps are georeferenced and trimmed to map frame",
 "mapName": "Layers",
 "description": "Maps are georeferenced and trimmed to map frame",
 "copyrightText": "United States Geological Survey",
 "supportsDynamicLayers": true,
 "layers": [
  {
   "id": 0,
   "name": "USGS 50k Topographic Reconnaissance Series",
   "parentLayerId": -1,
   "defaultVisibility": true,
   "subLayerIds": [
    1,
    2,
    3,
    4,
    5,
    6,
    7,
    8,
    9,
    10,
    11,
    12,
    13,
    14,
    15,
    16,
    17,
    18,
    19,
    20
   ],
   "minScale": 0,
   "maxScale": 0,
   "type": "Group Layer",
   "supportsDynamicLegends": false
  },
  {
   "id": 1,
   "name": "Beacon Valley.tif",
   "parentLayerId": 0,
   "defaultVisibility": true,
   "subLayerIds": null,
   "minScale": 0,
   "maxScale": 0,
   "type": "Raster Layer",
   "supportsDynamicLegends": true
  },
  {
   "id": 2,
   "name": "Cape Chocolate.tif",
   "parentLayerId": 0,
   "defaultVisibility": true,
   "subLayerIds": null,
   "minScale": 0,
   "maxScale": 0,
   "type": "Raster Layer",
   "supportsDynamicLegends": true
  },
  {
   "id": 3,
   "name": "Cathedral Rocks.tif",
   "parentLayerId": 0,
   "defaultVisibility": true,
   "subLayerIds": null,
   "minScale": 0,
   "maxScale": 0,
   "type": "Raster Layer",
   "supportsDynamicLegends": true
  },
  {
   "id": 4,
   "name": "Granite Knolls.tif",
   "parentLayerId": 0,
   "defaultVisibility": true,
   "subLayerIds": null,
   "minScale": 0,
   "maxScale": 0,
   "type": "Raster Layer",
   "supportsDynamicLegends": true
  },
  {
   "id": 5,
   "name": "Joyce Glacier.tif",
   "parentLayerId": 0,
   "defaultVisibility": true,
   "subLayerIds": null,
   "minScale": 0,
   "maxScale": 0,
   "type": "Raster Layer",
   "supportsDynamicLegends": true
  },
  {
   "id": 6,
   "name": "Knobhead.tif",
   "parentLayerId": 0,
   "defaultVisibility": true,
   "subLayerIds": null,
   "minScale": 0,
   "maxScale": 0,
   "type": "Raster Layer",
   "supportsDynamicLegends": true
  },
  {
   "id": 7,
   "name": "Labyrinth.tif",
   "parentLayerId": 0,
   "defaultVisibility": true,
   "subLayerIds": null,
   "minScale": 0,
   "maxScale": 0,
   "type": "Raster Layer",
   "supportsDynamicLegends": true
  },
  {
   "id": 8,
   "name": "Lake Bonney.tif",
   "parentLayerId": 0,
   "defaultVisibility": true,
   "subLayerIds": null,
   "minScale": 0,
   "maxScale": 0,
   "type": "Raster Layer",
   "supportsDynamicLegends": true
  },
  {
   "id": 9,
   "name": "Lake Brownworth.tif",
   "parentLayerId": 0,
   "defaultVisibility": true,
   "subLayerIds": null,
   "minScale": 0,
   "maxScale": 0,
   "type": "Raster Layer",
   "supportsDynamicLegends": true
  },
  {
   "id": 10,
   "name": "Lake Fryxell.tif",
   "parentLayerId": 0,
   "defaultVisibility": true,
   "subLayerIds": null,
   "minScale": 0,
   "maxScale": 0,
   "type": "Raster Layer",
   "supportsDynamicLegends": true
  },
  {
   "id": 11,
   "name": "Lake Vanda.tif",
   "parentLayerId": 0,
   "defaultVisibility": true,
   "subLayerIds": null,
   "minScale": 0,
   "maxScale": 0,
   "type": "Raster Layer",
   "supportsDynamicLegends": true
  },
  {
   "id": 12,
   "name": "Marble Point.tif",
   "parentLayerId": 0,
   "defaultVisibility": true,
   "subLayerIds": null,
   "minScale": 0,
   "maxScale": 0,
   "type": "Raster Layer",
   "supportsDynamicLegends": true
  },
  {
   "id": 13,
   "name": "Marshall Valley.tif",
   "parentLayerId": 0,
   "defaultVisibility": true,
   "subLayerIds": null,
   "minScale": 0,
   "maxScale": 0,
   "type": "Raster Layer",
   "supportsDynamicLegends": true
  },
  {
   "id": 14,
   "name": "Mount Huggins.tif",
   "parentLayerId": 0,
   "defaultVisibility": true,
   "subLayerIds": null,
   "minScale": 0,
   "maxScale": 0,
   "type": "Raster Layer",
   "supportsDynamicLegends": true
  },
  {
   "id": 15,
   "name": "Mount Lister.tif",
   "parentLayerId": 0,
   "defaultVisibility": true,
   "subLayerIds": null,
   "minScale": 0,
   "maxScale": 0,
   "type": "Raster Layer",
   "supportsDynamicLegends": true
  },
  {
   "id": 16,
   "name": "The Pyramid.tif",
   "parentLayerId": 0,
   "defaultVisibility": true,
   "subLayerIds": null,
   "minScale": 0,
   "maxScale": 0,
   "type": "Raster Layer",
   "supportsDynamicLegends": true
  },
  {
   "id": 17,
   "name": "The Spire.tif",
   "parentLayerId": 0,
   "defaultVisibility": true,
   "subLayerIds": null,
   "minScale": 0,
   "maxScale": 0,
   "type": "Raster Layer",
   "supportsDynamicLegends": true
  },
  {
   "id": 18,
   "name": "Twin Rocks.tif",
   "parentLayerId": 0,
   "defaultVisibility": true,
   "subLayerIds": null,
   "minScale": 0,
   "maxScale": 0,
   "type": "Raster Layer",
   "supportsDynamicLegends": true
  },
  {
   "id": 19,
   "name": "Victoria Upper Lake.tif",
   "parentLayerId": 0,
   "defaultVisibility": true,
   "subLayerIds": null,
   "minScale": 0,
   "maxScale": 0,
   "type": "Raster Layer",
   "supportsDynamicLegends": true
  },
  {
   "id": 20,
   "name": "Webb Lake.tif",
   "parentLayerId": 0,
   "defaultVisibility": true,
   "subLayerIds": null,
   "minScale": 0,
   "maxScale": 0,
   "type": "Raster Layer",
   "supportsDynamicLegends": true
  }
 ],
 "tables": [],
 "spatialReference": {
  "wkid": 3031,
  "latestWkid": 3031,
  "xyTolerance": 0.001,
  "zTolerance": 0.001,
  "mTolerance": 0.001,
  "falseX": -30636100,
  "falseY": -30636100,
  "xyUnits": 1.4700303326371488E8,
  "falseZ": -100000,
  "zUnits": 10000,
  "falseM": -100000,
  "mUnits": 10000
 },
 "singleFusedMapCache": true,
 "tileInfo": {
  "rows": 256,
  "cols": 256,
  "dpi": 96,
  "format": "MIXED",
  "compressionQuality": 75,
  "origin": {
   "x": -30636100,
   "y": 3.0636099999999993E7
  },
  "spatialReference": {
   "wkid": 3031,
   "latestWkid": 3031,
   "xyTolerance": 0.001,
   "zTolerance": 0.001,
   "mTolerance": 0.001,
   "falseX": -30636100,
   "falseY": -30636100,
   "xyUnits": 1.4700303326371488E8,
   "falseZ": -100000,
   "zUnits": 10000,
   "falseM": -100000,
   "mUnits": 10000
  },
  "lods": [
   {
    "level": 0,
    "resolution": 238810.81335399998,
    "scale": 9.0259024528771E8
   },
   {
    "level": 1,
    "resolution": 119405.40667699999,
    "scale": 4.51295122643855E8
   },
   {
    "level": 2,
    "resolution": 59702.70333849987,
    "scale": 2.25647561321927E8
   },
   {
    "level": 3,
    "resolution": 29851.351669250063,
    "scale": 1.12823780660964E8
   },
   {
    "level": 4,
    "resolution": 14925.675834625032,
    "scale": 5.6411890330482E7
   },
   {
    "level": 5,
    "resolution": 7462.837917312516,
    "scale": 2.8205945165241E7
   },
   {
    "level": 6,
    "resolution": 3731.4189586563907,
    "scale": 1.4102972582621E7
   },
   {
    "level": 7,
    "resolution": 1865.709479328063,
    "scale": 7051486.29131
   },
   {
    "level": 8,
    "resolution": 932.8547396640315,
    "scale": 3525743.145655
   },
   {
    "level": 9,
    "resolution": 466.42736983214803,
    "scale": 1762871.572828
   },
   {
    "level": 10,
    "resolution": 233.21368491607402,
    "scale": 881435.786414
   },
   {
    "level": 11,
    "resolution": 116.60684245803701,
    "scale": 440717.893207
   },
   {
    "level": 12,
    "resolution": 58.30342122888621,
    "scale": 220358.946603
   },
   {
    "level": 13,
    "resolution": 29.151710614575396,
    "scale": 110179.473302
   },
   {
    "level": 14,
    "resolution": 14.575855307287698,
    "scale": 55089.736651
   },
   {
    "level": 15,
    "resolution": 7.287927653511558,
    "scale": 27544.868325
   },
   {
    "level": 16,
    "resolution": 3.6439638268880707,
    "scale": 13772.434163
   },
   {
    "level": 17,
    "resolution": 1.8219819133117434,
    "scale": 6886.217081
   },
   {
    "level": 18,
    "resolution": 0.9109909567881637,
    "scale": 3443.108541
   }
  ]
 },
 "storageInfo": {
  "storageFormat": "esriMapCacheStorageModeCompactV2",
  "packetSize": 128
 },
 "initialExtent": {
  "xmin": 380661.274465611,
  "ymin": -1261244.7514117465,
  "xmax": 426800.2946611317,
  "ymax": -1212216.8088990834,
  "spatialReference": {
   "wkid": 3031,
   "latestWkid": 3031,
   "xyTolerance": 0.001,
   "zTolerance": 0.001,
   "mTolerance": 0.001,
   "falseX": -30636100,
   "falseY": -30636100,
   "xyUnits": 1.4700303326371488E8,
   "falseZ": -100000,
   "zUnits": 10000,
   "falseM": -100000,
   "mUnits": 10000
  }
 },
 "fullExtent": {
  "xmin": 328913.9302355061,
  "ymin": -1338698.5322504498,
  "xmax": 476134.8713561191,
  "ymax": -1184372.3488754793,
  "spatialReference": {
   "wkid": 3031,
   "latestWkid": 3031,
   "xyTolerance": 0.001,
   "zTolerance": 0.001,
   "mTolerance": 0.001,
   "falseX": -30636100,
   "falseY": -30636100,
   "xyUnits": 1.4700303326371488E8,
   "falseZ": -100000,
   "zUnits": 10000,
   "falseM": -100000,
   "mUnits": 10000
  }
 },
 "datesInUnknownTimezone": false,
 "minScale": 9.0259024528771E8,
 "maxScale": 3443.108541,
 "minLOD": 0,
 "maxLOD": 18,
 "units": "esriMeters",
 "supportedImageFormatTypes": "PNG32,PNG24,PNG,JPG,DIB,TIFF,EMF,PS,PDF,GIF,SVG,SVGZ,BMP",
 "documentInfo": {
  "Title": "Untitled.aprx",
  "Author": "",
  "Comments": "Maps are georeferenced and trimmed to map frame",
  "Subject": "Tiled and caches map service with 1:50,000 USGS Topographic Reconnaissance Series.",
  "Category": "",
  "AntialiasingMode": "None",
  "TextAntialiasingMode": "Force",
  "Version": "2.9.0",
  "Keywords": "USGS;Maps;Antarctica;PGC;Polar Geospatial Center"
 },
 "capabilities": "Map,Data,Query",
 "supportedQueryFormats": "JSON, geoJSON, PBF",
 "exportTilesAllowed": false,
 "referenceScale": 0.0,
 "supportsDatumTransformation": true,
 "archivingInfo": {
  "supportsHistoricMoment": false
 },
 "supportsClipping": true,
 "supportsSpatialFilter": true,
 "supportsTimeRelation": true,
 "supportsQueryDataElements": true,
 "maxRecordCount": 1000,
 "maxImageHeight": 4096,
 "maxImageWidth": 4096,
 "supportedExtensions": "KmlServer, WCSServer, WMSServer"
}
