View In:
ArcGIS JavaScript
ArcGIS Online Map Viewer
ArcGIS Earth
ArcMap
View Footprint In:
ArcGIS Online Map Viewer
Service Description: This is a mosaic dataset consisting of cloud-optimized GeoTiffs (COGS).
Name: imagery/ant_ncalm_aerial_mosaic
Description: This is a mosaic dataset consisting of cloud-optimized GeoTiffs (COGS).
Single Fused Map Cache: false
Extent:
XMin: -42910.22
YMin: -29955.009999999995
XMax: 114346.21000000002
YMax: 87833.12000000001
Spatial Reference: 3294
(3294)
Initial Extent:
XMin: -42910.22
YMin: -29955.009999999995
XMax: 114346.21000000002
YMax: 87833.12000000001
Spatial Reference: 3294
(3294)
Full Extent:
XMin: -42910.22
YMin: -29955.009999999995
XMax: 114346.21000000002
YMax: 87833.12000000001
Spatial Reference: 3294
(3294)
Pixel Size X: 0.030000000000000006
Pixel Size Y: 0.030000000000000002
Band Count: 3
Pixel Type: U8
RasterFunction Infos: {"rasterFunctionInfos": [
{
"name": "None",
"description": "Make a Raster or Raster Dataset into a Function Raster Dataset.",
"help": ""
},
{
"name": "None",
"description": "Make a Raster or Raster Dataset into a Function Raster Dataset.",
"help": ""
}
]}
Mensuration Capabilities: None
Has Histograms: true
Has Colormap: false
Has Multi Dimensions : false
Rendering Rule:
Min Scale: 0
Max Scale: 0
Copyright Text: Polar Geospatial Center, Andrew Fountain
Edit Fields Info:
- Creation Date Field: created_date
- Creator Field: created_user
- Edit Date Field: last_edited_date
- Editor Field: last_edited_user
Ownership Based Access Control:
- Allow Others to Update: false
- Allow Others to Delete: false
Service Data Type: esriImageServiceDataTypeRGB
Min Values: 0, 0, 0
Max Values: 255, 255, 255
Mean Values: 127.58255589198637, 125.48848938762752, 118.34773225302534
Standard Deviation Values: 44.302165557679054, 43.599749559194336, 43.25931414787915
Object ID Field: objectid
Fields:
-
objectid
(
type: esriFieldTypeOID, alias: OBJECTID
)
-
name
(
type: esriFieldTypeString, alias: Name, length: 200
)
-
minps
(
type: esriFieldTypeDouble, alias: MinPS
)
-
maxps
(
type: esriFieldTypeDouble, alias: MaxPS
)
-
lowps
(
type: esriFieldTypeDouble, alias: LowPS
)
-
highps
(
type: esriFieldTypeDouble, alias: HighPS
)
-
category
(
type: esriFieldTypeInteger, alias: Category
, Coded Values:
[0: Unknown]
, [1: Primary]
, [2: Overview]
, ...6 more...
)
-
tag
(
type: esriFieldTypeString, alias: Tag, length: 100
)
-
groupname
(
type: esriFieldTypeString, alias: GroupName, length: 100
)
-
productname
(
type: esriFieldTypeString, alias: ProductName, length: 100
)
-
centerx
(
type: esriFieldTypeDouble, alias: CenterX
)
-
centery
(
type: esriFieldTypeDouble, alias: CenterY
)
-
zorder
(
type: esriFieldTypeInteger, alias: ZOrder
)
-
shape
(
type: esriFieldTypeGeometry, alias: Shape
)
Default Mosaic Method: Northwest
Allowed Mosaic Methods: NorthWest,Center,LockRaster,ByAttribute,Nadir,Viewpoint,Seamline,None
SortField:
SortValue: null
Mosaic Operator: First
Default Compression Quality: 75
Default Resampling Method: Bilinear
Max Record Count: 1000
Max Image Height: 4100
Max Image Width: 15000
Max Download Image Count: 20
Max Mosaic Image Count: 50
Allow Raster Function: true
Allow Copy: true
Allow Analysis: true
Allow Compute TiePoints: false
Supports Statistics: true
Supports Advanced Queries: true
Use StandardizedQueries: true
Raster Type Infos:
Name: Raster Dataset
Description: Supports all ArcGIS Raster Datasets
Help:
Has Raster Attribute Table: false
Edit Fields Info: {"creationDateField":"created_date","creatorField":"created_user","editDateField":"last_edited_date","editorField":"last_edited_user"}
Ownership Based AccessControl For Rasters: {"allowOthersToDelete":false,"allowOthersToUpdate":false}
Child Resources:
Info
Histograms
Statistics
Key Properties
Legend
Raster Function Infos
Supported Operations:
Export Image
Query
Identify
Download Rasters
Compute Histograms
Compute Statistics Histograms
Get Samples
Compute Class Statistics
Query Boundary
Compute Pixel Location
Compute Angles
Validate
Project