{ "currentVersion": 10.91, "serviceDescription": "
This is a mosaic dataset consisting of cloud-optimized GeoTiffs (COGS). <\/SPAN><\/P><\/DIV><\/DIV>",
"name": "imagery/ant_ncalm_aerial_mosaic",
"description": " This is a mosaic dataset consisting of cloud-optimized GeoTiffs (COGS). <\/SPAN><\/P><\/DIV><\/DIV>",
"extent": {
"xmin": -42910.22,
"ymin": -29955.009999999995,
"xmax": 114346.21000000002,
"ymax": 87833.12000000001,
"spatialReference": {
"wkid": 3294,
"latestWkid": 3294
}
},
"initialExtent": {
"xmin": -42910.22,
"ymin": -29955.009999999995,
"xmax": 114346.21000000002,
"ymax": 87833.12000000001,
"spatialReference": {
"wkid": 3294,
"latestWkid": 3294
}
},
"fullExtent": {
"xmin": -42910.22,
"ymin": -29955.009999999995,
"xmax": 114346.21000000002,
"ymax": 87833.12000000001,
"spatialReference": {
"wkid": 3294,
"latestWkid": 3294
}
},
"hasMultidimensions": false,
"pixelSizeX": 0.030000000000000006,
"pixelSizeY": 0.030000000000000002,
"datasetFormat": "AMD",
"uncompressedSize": 61743136067253,
"blockWidth": 2048,
"blockHeight": 256,
"compressionType": "None",
"bandNames": [
"Band_1",
"Band_2",
"Band_3"
],
"allowCopy": true,
"allowAnalysis": true,
"bandCount": 3,
"pixelType": "U8",
"minPixelSize": 0,
"maxPixelSize": 0,
"copyrightText": "Polar Geospatial Center, Andrew Fountain",
"serviceDataType": "esriImageServiceDataTypeRGB",
"serviceSourceType": "esriImageServiceSourceTypeMosaicDataset",
"minValues": [
0,
0,
0
],
"maxValues": [
255,
255,
255
],
"meanValues": [
127.58255589198637,
125.48848938762752,
118.34773225302534
],
"stdvValues": [
44.302165557679054,
43.599749559194336,
43.25931414787915
],
"objectIdField": "objectid",
"fields": [
{
"name": "objectid",
"type": "esriFieldTypeOID",
"alias": "OBJECTID",
"domain": null
},
{
"name": "name",
"type": "esriFieldTypeString",
"alias": "Name",
"domain": null,
"length": 200
},
{
"name": "minps",
"type": "esriFieldTypeDouble",
"alias": "MinPS",
"domain": null
},
{
"name": "maxps",
"type": "esriFieldTypeDouble",
"alias": "MaxPS",
"domain": null
},
{
"name": "lowps",
"type": "esriFieldTypeDouble",
"alias": "LowPS",
"domain": null
},
{
"name": "highps",
"type": "esriFieldTypeDouble",
"alias": "HighPS",
"domain": null
},
{
"name": "category",
"type": "esriFieldTypeInteger",
"alias": "Category",
"domain": {
"type": "codedValue",
"name": "MosaicCatalogItemCategoryDomain",
"description": "Catalog item categories.",
"codedValues": [
{
"name": "Unknown",
"code": 0
},
{
"name": "Primary",
"code": 1
},
{
"name": "Overview",
"code": 2
},
{
"name": "Unprocessed Overview",
"code": 3
},
{
"name": "Partial Overview",
"code": 4
},
{
"name": "Inactive",
"code": 5
},
{
"name": "Uploaded",
"code": 253
},
{
"name": "Incomplete",
"code": 254
},
{
"name": "Custom",
"code": 255
}
],
"mergePolicy": "esriMPTDefaultValue",
"splitPolicy": "esriSPTDefaultValue"
}
},
{
"name": "tag",
"type": "esriFieldTypeString",
"alias": "Tag",
"domain": null,
"length": 100
},
{
"name": "groupname",
"type": "esriFieldTypeString",
"alias": "GroupName",
"domain": null,
"length": 100
},
{
"name": "productname",
"type": "esriFieldTypeString",
"alias": "ProductName",
"domain": null,
"length": 100
},
{
"name": "centerx",
"type": "esriFieldTypeDouble",
"alias": "CenterX",
"domain": null
},
{
"name": "centery",
"type": "esriFieldTypeDouble",
"alias": "CenterY",
"domain": null
},
{
"name": "zorder",
"type": "esriFieldTypeInteger",
"alias": "ZOrder",
"domain": null
},
{
"name": "shape",
"type": "esriFieldTypeGeometry",
"alias": "Shape",
"domain": null
}
],
"capabilities": "Image,Metadata,Catalog,Download",
"defaultMosaicMethod": "Northwest",
"allowedMosaicMethods": "NorthWest,Center,LockRaster,ByAttribute,Nadir,Viewpoint,Seamline,None",
"sortField": "",
"sortValue": null,
"sortAscending": true,
"mosaicOperator": "First",
"maxDownloadSizeLimit": 2048,
"defaultCompressionQuality": 75,
"defaultResamplingMethod": "Bilinear",
"maxImageHeight": 4100,
"maxImageWidth": 15000,
"maxRecordCount": 1000,
"maxDownloadImageCount": 20,
"maxMosaicImageCount": 20,
"allowRasterFunction": true,
"rasterFunctionInfos": [
{
"name": "None",
"description": "",
"help": ""
}
],
"rasterTypeInfos": [
{
"name": "Raster Dataset",
"description": "Supports all ArcGIS Raster Datasets",
"help": ""
}
],
"mensurationCapabilities": "None",
"hasHistograms": true,
"hasColormap": false,
"hasRasterAttributeTable": false,
"minScale": 0,
"maxScale": 0,
"exportTilesAllowed": false,
"supportsStatistics": true,
"supportsAdvancedQueries": true,
"editFieldsInfo": {
"creationDateField": "created_date",
"creatorField": "created_user",
"editDateField": "last_edited_date",
"editorField": "last_edited_user"
},
"ownershipBasedAccessControlForRasters": {
"allowOthersToDelete": false,
"allowOthersToUpdate": false
},
"allowComputeTiePoints": false,
"useStandardizedQueries": true,
"advancedQueryCapabilities": {
"useStandardizedQueries": true,
"supportsStatistics": true,
"supportsOrderBy": true,
"supportsDistinct": true,
"supportsPagination": true
},
"spatialReference": {
"wkid": 3294,
"latestWkid": 3294
}
}