View In:
ArcGIS JavaScript
ArcGIS Online map viewer
Google Earth
ArcMap
View Footprint In:
ArcGIS Online map viewer
Service Description: See https://www.pgc.umn.edu/data/elevation/ for more information.
Name: elevation/ncalm_mdv_lidar_201415_1m
Description: See https://www.pgc.umn.edu/data/elevation/ for more information.
Single Fused Map Cache: false
Extent:
XMin: -44247.5
YMin: -32002.5
XMax: 115002.5
YMax: 87927.5
Spatial Reference: 3294
(3294)
Initial Extent:
XMin: -44247.5
YMin: -32002.5
XMax: 115002.5
YMax: 87927.5
Spatial Reference: 3294
(3294)
Full Extent:
XMin: -44247.5
YMin: -32002.5
XMax: 115002.5
YMax: 87927.5
Spatial Reference: 3294
(3294)
Pixel Size X: 1.0
Pixel Size Y: 1.0
Band Count: 1
Pixel Type: F32
RasterFunction Infos: {"name":"None","description":"","help":""}
Mensuration Capabilities: Basic
Has Histograms: true
Has Colormap: false
Has Multi Dimensions : false
Rendering Rule:
Min Scale: 0
Max Scale: 0
Copyright Text: NCALM / PGC
Service Data Type: esriImageServiceDataTypeElevation
Min Values: -47.078453063964844
Max Values: 2632.464111328125
Mean Values: 763.9698651631675
Standard Deviation Values: 644.1181228788039
Object ID Field: objectid
Fields:
-
objectid
(
type: esriFieldTypeOID
, alias: objectid
)
-
name
(
type: esriFieldTypeString
, alias: name
, length: 200
)
-
minps
(
type: esriFieldTypeDouble
, alias: minps
)
-
maxps
(
type: esriFieldTypeDouble
, alias: maxps
)
-
lowps
(
type: esriFieldTypeDouble
, alias: lowps
)
-
highps
(
type: esriFieldTypeDouble
, alias: highps
)
-
category
(
type: esriFieldTypeInteger
, alias: category
, Coded Values:
[0: Unknown]
, [1: Primary]
, [2: Overview]
, ...6 more...
)
-
tag
(
type: esriFieldTypeString
, alias: tag
, length: 100
)
-
groupname
(
type: esriFieldTypeString
, alias: groupname
, length: 100
)
-
productname
(
type: esriFieldTypeString
, alias: productname
, length: 100
)
-
centerx
(
type: esriFieldTypeDouble
, alias: centerx
)
-
centery
(
type: esriFieldTypeDouble
, alias: centery
)
-
zorder
(
type: esriFieldTypeInteger
, alias: zorder
)
-
thumbnail
(
type: esriFieldTypeBlob
, alias: thumbnail
)
-
site_name
(
type: esriFieldTypeString
, alias: Site Name
, length: 50
)
-
res_m
(
type: esriFieldTypeDouble
, alias: Resolution (m)
)
-
dem_type
(
type: esriFieldTypeString
, alias: DEM Type
, length: 50
)
-
http_url
(
type: esriFieldTypeString
, alias: HTTP URL
, length: 254
)
-
shape
(
type: esriFieldTypeGeometry
, alias: shape
)
Default Mosaic Method: Northwest
Allowed Mosaic Methods: NorthWest,Center,LockRaster,ByAttribute,Nadir,Viewpoint,Seamline,None
SortField:
SortValue: null
Mosaic Operator: Blend
Default Compression Quality: 100000
Default Resampling Method: Bilinear
Max Record Count: 1000
Max Image Height: 4100
Max Image Width: 15000
Max Download Image Count: 0
Max Mosaic Image Count: 100
Allow Raster Function: true
Allow Compute TiePoints: false
Supports Statistics: true
Supports Advanced Queries: true
Use StandardizedQueries: true
Raster Type Infos:
Name: Raster Dataset
Description: Supports all ArcGIS Raster Datasets
Help:
Has Raster Attribute Table: false
Edit Fields Info: null
Ownership Based AccessControl For Rasters: null
Child Resources:
Info
Histograms
Key Properties
Legend
MultiDimensionalInfo
rasterFunctionInfos
Supported Operations:
Export Image
Query
Identify
Measure
Compute Histograms
Compute Statistics Histograms
Get Samples
Compute Class Statistics