{
 "currentVersion": 10.91,
 "serviceDescription": "See https://www.pgc.umn.edu/data/elevation/ for more information.",
 "name": "elevation/ncalm_mdv_lidar_201415_1m",
 "description": "See https://www.pgc.umn.edu/data/elevation/ for more information.",
 "extent": {
  "xmin": -44247.5,
  "ymin": -32002.5,
  "xmax": 115002.5,
  "ymax": 87927.5,
  "spatialReference": {
   "wkid": 3294,
   "latestWkid": 3294
  }
 },
 "initialExtent": {
  "xmin": -44247.5,
  "ymin": -32002.5,
  "xmax": 115002.5,
  "ymax": 87927.5,
  "spatialReference": {
   "wkid": 3294,
   "latestWkid": 3294
  }
 },
 "fullExtent": {
  "xmin": -44247.5,
  "ymin": -32002.5,
  "xmax": 115002.5,
  "ymax": 87927.5,
  "spatialReference": {
   "wkid": 3294,
   "latestWkid": 3294
  }
 },
 "hasMultidimensions": false,
 "pixelSizeX": 1,
 "pixelSizeY": 1,
 "datasetFormat": "AMD",
 "uncompressedSize": 76395410000,
 "blockWidth": 2048,
 "blockHeight": 256,
 "compressionType": "None",
 "bandNames": [
  "Band_1"
 ],
 "allowCopy": true,
 "allowAnalysis": true,
 "bandCount": 1,
 "pixelType": "F32",
 "minPixelSize": 0,
 "maxPixelSize": 0,
 "copyrightText": "NCALM / PGC",
 "serviceDataType": "esriImageServiceDataTypeElevation",
 "serviceSourceType": "esriImageServiceSourceTypeMosaicDataset",
 "minValues": [
  -47.078453063964844
 ],
 "maxValues": [
  2632.464111328125
 ],
 "meanValues": [
  763.9698651631675
 ],
 "stdvValues": [
  644.1181228788039
 ],
 "objectIdField": "objectid",
 "fields": [
  {
   "name": "objectid",
   "type": "esriFieldTypeOID",
   "alias": "objectid",
   "domain": null
  },
  {
   "name": "name",
   "type": "esriFieldTypeString",
   "alias": "name",
   "domain": null,
   "length": 200
  },
  {
   "name": "minps",
   "type": "esriFieldTypeDouble",
   "alias": "minps",
   "domain": null
  },
  {
   "name": "maxps",
   "type": "esriFieldTypeDouble",
   "alias": "maxps",
   "domain": null
  },
  {
   "name": "lowps",
   "type": "esriFieldTypeDouble",
   "alias": "lowps",
   "domain": null
  },
  {
   "name": "highps",
   "type": "esriFieldTypeDouble",
   "alias": "highps",
   "domain": null
  },
  {
   "name": "category",
   "type": "esriFieldTypeInteger",
   "alias": "category",
   "domain": {
    "type": "codedValue",
    "name": "MosaicCatalogItemCategoryDomain",
    "description": "Catalog item categories.",
    "codedValues": [
     {
      "name": "Unknown",
      "code": 0
     },
     {
      "name": "Primary",
      "code": 1
     },
     {
      "name": "Overview",
      "code": 2
     },
     {
      "name": "Unprocessed Overview",
      "code": 3
     },
     {
      "name": "Partial Overview",
      "code": 4
     },
     {
      "name": "Inactive",
      "code": 5
     },
     {
      "name": "Uploaded",
      "code": 253
     },
     {
      "name": "Incomplete",
      "code": 254
     },
     {
      "name": "Custom",
      "code": 255
     }
    ],
    "mergePolicy": "esriMPTDefaultValue",
    "splitPolicy": "esriSPTDefaultValue"
   }
  },
  {
   "name": "tag",
   "type": "esriFieldTypeString",
   "alias": "tag",
   "domain": null,
   "length": 100
  },
  {
   "name": "groupname",
   "type": "esriFieldTypeString",
   "alias": "groupname",
   "domain": null,
   "length": 100
  },
  {
   "name": "productname",
   "type": "esriFieldTypeString",
   "alias": "productname",
   "domain": null,
   "length": 100
  },
  {
   "name": "centerx",
   "type": "esriFieldTypeDouble",
   "alias": "centerx",
   "domain": null
  },
  {
   "name": "centery",
   "type": "esriFieldTypeDouble",
   "alias": "centery",
   "domain": null
  },
  {
   "name": "zorder",
   "type": "esriFieldTypeInteger",
   "alias": "zorder",
   "domain": null
  },
  {
   "name": "site_name",
   "type": "esriFieldTypeString",
   "alias": "Site Name",
   "domain": null,
   "length": 50
  },
  {
   "name": "res_m",
   "type": "esriFieldTypeDouble",
   "alias": "Resolution (m)",
   "domain": null
  },
  {
   "name": "dem_type",
   "type": "esriFieldTypeString",
   "alias": "DEM Type",
   "domain": null,
   "length": 50
  },
  {
   "name": "http_url",
   "type": "esriFieldTypeString",
   "alias": "HTTP URL",
   "domain": null,
   "length": 254
  },
  {
   "name": "filepath",
   "type": "esriFieldTypeString",
   "alias": "Filepath",
   "domain": null,
   "length": 254
  },
  {
   "name": "shape",
   "type": "esriFieldTypeGeometry",
   "alias": "shape",
   "domain": null
  },
  {
   "name": "st_area(shape)",
   "type": "esriFieldTypeDouble",
   "alias": "st_area(shape)",
   "domain": null
  }
 ],
 "capabilities": "Catalog,Mensuration,Image,Metadata",
 "defaultMosaicMethod": "Northwest",
 "allowedMosaicMethods": "NorthWest,Center,LockRaster,ByAttribute,Nadir,Viewpoint,Seamline,None",
 "sortField": "",
 "sortValue": null,
 "sortAscending": true,
 "mosaicOperator": "Blend",
 "maxDownloadSizeLimit": 0,
 "defaultCompressionQuality": 100000,
 "defaultResamplingMethod": "Bilinear",
 "maxImageHeight": 4100,
 "maxImageWidth": 15000,
 "maxRecordCount": 1000,
 "maxDownloadImageCount": 0,
 "maxMosaicImageCount": 100,
 "allowRasterFunction": true,
 "rasterFunctionInfos": [
  {
   "name": "None",
   "description": "A No-Op Function.",
   "help": ""
  },
  {
   "name": "Hillshade",
   "description": "Hillshade with voids filled.",
   "help": "Hillshade representation. Voids (holes) in the data have been filled. For visual purposes only."
  },
  {
   "name": "Shaded Relief",
   "description": "Shaded Relief",
   "help": "Shaded relief representation. Voids (holes) in the data have been filled. For visual purposes only."
  },
  {
   "name": "Fill Voids",
   "description": "Fill voids (holes)",
   "help": "Interpolates pixels where NoData is present. For visual purposes only."
  },
  {
   "name": "Slope",
   "description": "Calculates slope (degrees).",
   "help": "Slope calcuation in degrees (0° to 90°)"
  },
  {
   "name": "Aspect",
   "description": "Aspect function.",
   "help": "Aspect identifies the downslope direction of the maximum rate of change in value from each cell to its neighbors. Aspect can be thought of as the slope direction. The values of the output raster will be the compass direction (0° to 360°) of the aspect."
  }
 ],
 "rasterTypeInfos": [
  {
   "name": "Raster Dataset",
   "description": "Supports all ArcGIS Raster Datasets",
   "help": ""
  }
 ],
 "mensurationCapabilities": "Basic",
 "hasHistograms": true,
 "hasColormap": false,
 "hasRasterAttributeTable": false,
 "minScale": 0,
 "maxScale": 0,
 "exportTilesAllowed": false,
 "supportsStatistics": true,
 "supportsAdvancedQueries": true,
 "editFieldsInfo": null,
 "ownershipBasedAccessControlForRasters": null,
 "allowComputeTiePoints": false,
 "useStandardizedQueries": true,
 "advancedQueryCapabilities": {
  "useStandardizedQueries": true,
  "supportsStatistics": true,
  "supportsOrderBy": true,
  "supportsDistinct": true,
  "supportsPagination": true
 },
 "spatialReference": {
  "wkid": 3294,
  "latestWkid": 3294
 }
}
