View In:
ArcGIS JavaScript
ArcGIS Online map viewer
Google Earth
ArcMap
View Footprint In:
ArcGIS Online map viewer
Service Description:
Name: elevation/ant_nsidc_ramp200_v2
Description:
Single Fused Map Cache: false
Extent:
XMin: -2868000
YMin: -2458000
XMax: 2868000
YMax: 2458000
Spatial Reference: PROJCS["WGS_1984_Stereographic_South_Pole",GEOGCS["GCS_WGS_1984",DATUM["D_WGS_1984",SPHEROID["WGS_1984",6378137.0,298.257223563]],PRIMEM["Greenwich",0.0],UNIT["Degree",0.0174532925199433]],PROJECTION["Stereographic_South_Pole"],PARAMETER["false_easting",0.0],PARAMETER["false_northing",0.0],PARAMETER["central_meridian",0.0],PARAMETER["standard_parallel_1",-71.0],UNIT["Meter",1.0]]
Initial Extent:
XMin: -2868000
YMin: -2458000
XMax: 2868000
YMax: 2458000
Spatial Reference: PROJCS["WGS_1984_Stereographic_South_Pole",GEOGCS["GCS_WGS_1984",DATUM["D_WGS_1984",SPHEROID["WGS_1984",6378137.0,298.257223563]],PRIMEM["Greenwich",0.0],UNIT["Degree",0.0174532925199433]],PROJECTION["Stereographic_South_Pole"],PARAMETER["false_easting",0.0],PARAMETER["false_northing",0.0],PARAMETER["central_meridian",0.0],PARAMETER["standard_parallel_1",-71.0],UNIT["Meter",1.0]]
Full Extent:
XMin: -2868000
YMin: -2458000
XMax: 2868000
YMax: 2458000
Spatial Reference: PROJCS["WGS_1984_Stereographic_South_Pole",GEOGCS["GCS_WGS_1984",DATUM["D_WGS_1984",SPHEROID["WGS_1984",6378137.0,298.257223563]],PRIMEM["Greenwich",0.0],UNIT["Degree",0.0174532925199433]],PROJECTION["Stereographic_South_Pole"],PARAMETER["false_easting",0.0],PARAMETER["false_northing",0.0],PARAMETER["central_meridian",0.0],PARAMETER["standard_parallel_1",-71.0],UNIT["Meter",1.0]]
Pixel Size X: 200.0
Pixel Size Y: 200.0
Band Count: 1
Pixel Type: S16
RasterFunction Infos: {"name":"None","description":"A No-Op Function.","help":""}, {"name":"Shaded Relief","description":"A raster function template.","help":""}
Mensuration Capabilities: Basic
Has Histograms: true
Has Colormap: false
Has Multi Dimensions : false
Rendering Rule:
Min Scale: 0
Max Scale: 0
Copyright Text: National Snow and Ice Data Center (NSIDC)
Hongxing Liu, Kenneth Jezek, Biyan Li, Zhiyuan Zhao
Service Data Type: esriImageServiceDataTypeElevation
Min Values: -67
Max Values: 5008
Mean Values: 942.294519175088
Standard Deviation Values: 1281.698897594941
Object ID Field:
Fields:
None
Default Mosaic Method: Center
Allowed Mosaic Methods:
SortField:
SortValue: null
Mosaic Operator: First
Default Compression Quality: 1000000
Default Resampling Method: Bilinear
Max Record Count: null
Max Image Height: 4100
Max Image Width: 15000
Max Download Image Count: null
Max Mosaic Image Count: null
Allow Raster Function: true
Allow Compute TiePoints: false
Supports Statistics: false
Supports Advanced Queries: false
Use StandardizedQueries: true
Raster Type Infos:
Name: Raster Dataset
Description: Supports all ArcGIS Raster Datasets
Help:
Has Raster Attribute Table: true
Edit Fields Info: null
Ownership Based AccessControl For Rasters: null
Child Resources:
Info
Raster Attribute Table
Histograms
Key Properties
Legend
MultiDimensionalInfo
rasterFunctionInfos
Supported Operations:
Export Image
Identify
Measure
Compute Histograms
Compute Statistics Histograms
Get Samples
Compute Class Statistics