See a detailed description at <\/span>http://nsidc.org/data/nsidc-0082<\/span><\/a><\/p><\/div><\/div><\/div>",
"extent": {
"xmin": -2868000,
"ymin": -2458000,
"xmax": 2868000,
"ymax": 2458000,
"spatialReference": {"wkt": "PROJCS[\"WGS_1984_Stereographic_South_Pole\",GEOGCS[\"GCS_WGS_1984\",DATUM[\"D_WGS_1984\",SPHEROID[\"WGS_1984\",6378137.0,298.257223563]],PRIMEM[\"Greenwich\",0.0],UNIT[\"Degree\",0.0174532925199433]],PROJECTION[\"Stereographic_South_Pole\"],PARAMETER[\"false_easting\",0.0],PARAMETER[\"false_northing\",0.0],PARAMETER[\"central_meridian\",0.0],PARAMETER[\"standard_parallel_1\",-71.0],UNIT[\"Meter\",1.0]]"}
},
"initialExtent": {
"xmin": -2868000,
"ymin": -2458000,
"xmax": 2868000,
"ymax": 2458000,
"spatialReference": {"wkt": "PROJCS[\"WGS_1984_Stereographic_South_Pole\",GEOGCS[\"GCS_WGS_1984\",DATUM[\"D_WGS_1984\",SPHEROID[\"WGS_1984\",6378137.0,298.257223563]],PRIMEM[\"Greenwich\",0.0],UNIT[\"Degree\",0.0174532925199433]],PROJECTION[\"Stereographic_South_Pole\"],PARAMETER[\"false_easting\",0.0],PARAMETER[\"false_northing\",0.0],PARAMETER[\"central_meridian\",0.0],PARAMETER[\"standard_parallel_1\",-71.0],UNIT[\"Meter\",1.0]]"}
},
"fullExtent": {
"xmin": -2868000,
"ymin": -2458000,
"xmax": 2868000,
"ymax": 2458000,
"spatialReference": {"wkt": "PROJCS[\"WGS_1984_Stereographic_South_Pole\",GEOGCS[\"GCS_WGS_1984\",DATUM[\"D_WGS_1984\",SPHEROID[\"WGS_1984\",6378137.0,298.257223563]],PRIMEM[\"Greenwich\",0.0],UNIT[\"Degree\",0.0174532925199433]],PROJECTION[\"Stereographic_South_Pole\"],PARAMETER[\"false_easting\",0.0],PARAMETER[\"false_northing\",0.0],PARAMETER[\"central_meridian\",0.0],PARAMETER[\"standard_parallel_1\",-71.0],UNIT[\"Meter\",1.0]]"}
},
"hasMultidimensions": false,
"pixelSizeX": 200,
"pixelSizeY": 200,
"datasetFormat": "SDR",
"uncompressedSize": 1409908800,
"blockWidth": 128,
"blockHeight": 128,
"compressionType": "LZ77",
"bandNames": [
"Band_1"
],
"allowCopy": true,
"allowAnalysis": true,
"bandCount": 1,
"pixelType": "S16",
"minPixelSize": 0,
"maxPixelSize": 0,
"copyrightText": "National Snow and Ice Data Center (NSIDC)Hongxing Liu, Kenneth Jezek, Biyan Li, Zhiyuan Zhao",
"serviceDataType": "esriImageServiceDataTypeElevation",
"serviceSourceType": "esriImageServiceSourceTypeDataset",
"minValues": [
-67
],
"maxValues": [
5008
],
"meanValues": [
942.294519175088
],
"stdvValues": [
1281.698897594941
],
"objectIdField": "",
"fields": [],
"capabilities": "Mensuration,Image,Metadata",
"defaultMosaicMethod": "Center",
"allowedMosaicMethods": "",
"sortField": "",
"sortValue": null,
"sortAscending": true,
"mosaicOperator": "First",
"maxDownloadSizeLimit": 2097196,
"defaultCompressionQuality": 75,
"defaultResamplingMethod": "Bilinear",
"maxImageHeight": 4100,
"maxImageWidth": 15000,
"allowRasterFunction": true,
"rasterFunctionInfos": [
{
"name": "None",
"description": "",
"help": ""
}
],
"rasterTypeInfos": [
{
"name": "Raster Dataset",
"description": "Supports all ArcGIS Raster Datasets",
"help": ""
}
],
"mensurationCapabilities": "Basic",
"hasHistograms": true,
"hasColormap": false,
"hasRasterAttributeTable": true,
"minScale": 0,
"maxScale": 0,
"exportTilesAllowed": false,
"supportsStatistics": false,
"supportsAdvancedQueries": false,
"editFieldsInfo": null,
"ownershipBasedAccessControlForRasters": null,
"allowComputeTiePoints": false,
"useStandardizedQueries": true,
"advancedQueryCapabilities": {
"useStandardizedQueries": true,
"supportsStatistics": false,
"supportsOrderBy": false,
"supportsDistinct": false,
"supportsPagination": false
},
"spatialReference": {"wkt": "PROJCS[\"WGS_1984_Stereographic_South_Pole\",GEOGCS[\"GCS_WGS_1984\",DATUM[\"D_WGS_1984\",SPHEROID[\"WGS_1984\",6378137.0,298.257223563]],PRIMEM[\"Greenwich\",0.0],UNIT[\"Degree\",0.0174532925199433]],PROJECTION[\"Stereographic_South_Pole\"],PARAMETER[\"false_easting\",0.0],PARAMETER[\"false_northing\",0.0],PARAMETER[\"central_meridian\",0.0],PARAMETER[\"standard_parallel_1\",-71.0],UNIT[\"Meter\",1.0]]"}
}