View In:
ArcGIS JavaScript
ArcGIS Online Map Viewer
ArcGIS Earth
ArcMap
ArcGIS Pro
View Footprint In:
ArcGIS Online Map Viewer
Service Description: Maps are georeferenced and trimmed to map frame
Map Name: Layers
Legend
All Layers and Tables
Dynamic Legend
Dynamic All Layers
Layers:
Description: Maps are georeferenced and trimmed to map frame
Copyright Text: United States Geological Survey
Spatial Reference:
3031
(3031)
Single Fused Map Cache: true
Tile Info:
- Height: 256
- Width: 256
- DPI: 96
-
Levels of Detail: 15
-
Level ID: 0
[ Start Tile, End Tile ]
- Resolution: 238810.81335399998
- Scale: 9.0259024528771E8
-
Level ID: 1
[ Start Tile, End Tile ]
- Resolution: 119405.40667699999
- Scale: 4.51295122643855E8
-
Level ID: 2
[ Start Tile, End Tile ]
- Resolution: 119405.40667699999
- Scale: 4.51295122643855E8
-
Level ID: 3
[ Start Tile, End Tile ]
- Resolution: 29851.351669250063
- Scale: 1.12823780660964E8
-
Level ID: 4
[ Start Tile, End Tile ]
- Resolution: 14925.675834625032
- Scale: 5.6411890330482E7
-
Level ID: 5
[ Start Tile, End Tile ]
- Resolution: 7462.837917312516
- Scale: 2.8205945165241E7
-
Level ID: 6
[ Start Tile, End Tile ]
- Resolution: 3731.4189586563907
- Scale: 1.4102972582621E7
- Format: MIXED
- Compression Quality: 75.0
- Origin: X: -3.369955099203E7
Y: 3.369955099203E7
- Spatial Reference: 3031
(3031)
Storage Info:
- Storage Format: esriMapCacheStorageModeCompactV2
- Packet Size: 128
Initial Extent:
XMin: -570997.6244987887
YMin: -2503508.192093907
XMax: 3997285.3981581884
YMax: 2241992.706442005
Spatial Reference: 3031
(3031)
Full Extent:
XMin: 1626453.499913787
YMin: -1947973.018869529
XMax: 2909882.153079613
YMax: 1686497.051682357
Spatial Reference: 3031
(3031)
Units: esriMeters
Supported Image Format Types: PNG32,PNG24,PNG,JPG,DIB,TIFF,EMF,PS,PDF,GIF,SVG,SVGZ,BMP
Document Info:
Title: Untitled.aprx
Author:
Comments: Maps are georeferenced and trimmed to map frame
Subject: Tiled and caches map service with 1:50,000 USGS Topographic Reconnaissance Series.
Category:
Keywords: USGS;Maps;Antarctica;PGC;Polar Geospatial Center
AntialiasingMode: None
TextAntialiasingMode: Force
Supports Dynamic Layers: true
MaxRecordCount: 1000
MaxImageHeight: 4096
MaxImageWidth: 4096
Supported Query Formats: JSON, geoJSON, PBF
Supports Query Data Elements: true
Min Scale: 9.0259024528771E8
Max Scale: 55089.736651
Min LOD: 0
Max LOD: 14
Supports Datum Transformation: true
Child Resources:
Info
Dynamic Layer
Supported Operations:
Export Map
Identify
QueryLegends
QueryDomains
Find
Return Updates
Generate KML