View In:
ArcGIS JavaScript
ArcGIS Online Map Viewer
ArcGIS Earth
ArcMap
ArcGIS Pro
View Footprint In:
ArcGIS Online Map Viewer
Service Description: The PGC Landsat 8 RGB Mosaic of Alaska is a composite mosaic of hundreds of Landsat 8 scenes from 2014-present. The mosaic is a blended version of "best-pixel" to minimize snow cover and maximize homogeneity. This service is available as a tiled map cache.
Map Name: Layers
Legend
All Layers and Tables
Dynamic Legend
Dynamic All Layers
Layers:
Description: The PGC Landsat 8 RGB Mosaic ofAlaska is a composite mosaic of hundreds of Landsat 8 scenes from 2014-present. The mosaic is a blended version of "best-pixel" to minimize snow cover and maximize homogeneity.
Copyright Text: Polar Geospatial Center
Spatial Reference:
102006
(3338)
Single Fused Map Cache: true
Tile Info:
- Height: 256
- Width: 256
- DPI: 96
-
Levels of Detail: 15
-
Level ID: 0
[ Start Tile, End Tile ]
- Resolution: 156543.03392800014
- Scale: 5.91657527591555E8
-
Level ID: 1
[ Start Tile, End Tile ]
- Resolution: 78271.51696399994
- Scale: 2.95828763795777E8
-
Level ID: 2
[ Start Tile, End Tile ]
- Resolution: 39135.75848200009
- Scale: 1.47914381897889E8
-
Level ID: 3
[ Start Tile, End Tile ]
- Resolution: 19567.87924099992
- Scale: 7.3957190948944E7
-
Level ID: 4
[ Start Tile, End Tile ]
- Resolution: 9783.93962049996
- Scale: 3.6978595474472E7
-
Level ID: 5
[ Start Tile, End Tile ]
- Resolution: 4891.96981024998
- Scale: 1.8489297737236E7
- Format: MIXED
- Compression Quality: 75.0
- Origin: X: -2.0037508342787E7
Y: 2.0037508342787E7
- Spatial Reference: 102006
(3338)
Storage Info:
- Storage Format: esriMapCacheStorageModeCompactV2
- Packet Size: 128
Initial Extent:
XMin: -1434822.234604518
YMin: 656700.0945279631
XMax: 1168229.8987517394
YMax: 2367235.4750892296
Spatial Reference: 102006
(3338)
Full Extent:
XMin: -1813905
YMin: 111705
XMax: 1758870
YMax: 2652316.2935000006
Spatial Reference: 102006
(3338)
Units: esriMeters
Supported Image Format Types: PNG32,PNG24,PNG,JPG,DIB,TIFF,EMF,PS,PDF,GIF,SVG,SVGZ,BMP
Document Info:
Title: PGC Landsat 8 RGB Mosaic of Alaska
Author:
Comments: The PGC Landsat 8 RGB Mosaic ofAlaska is a composite mosaic of hundreds of Landsat 8 scenes from 2014-present. The mosaic is a blended version of "best-pixel" to minimize snow cover and maximize homogeneity.
Subject: PGC Landsat 8 RGB Mosaic of Alaska
Category:
Keywords: imagery; satellite imagery; Landsat; Landsat 8; True Color; RGB; Alaska; mosaic; PGC; Polar Geospatial Center;
AntialiasingMode: None
TextAntialiasingMode: Force
Supports Dynamic Layers: true
MaxRecordCount: 1000
MaxImageHeight: 4096
MaxImageWidth: 4096
Supported Query Formats: JSON, geoJSON, PBF
Supports Query Data Elements: true
Min Scale: 5.91657527591555E8
Max Scale: 36111.909643
Min LOD: 0
Max LOD: 14
Supports Datum Transformation: true
Child Resources:
Info
Dynamic Layer
Supported Operations:
Export Map
Identify
QueryLegends
QueryDomains
Find
Return Updates
Generate KML