View In:
ArcGIS JavaScript
ArcGIS Online Map Viewer
ArcGIS Earth
ArcMap
View Footprint In:
ArcGIS Online Map Viewer
Service Description: elevation/pgc_rema_mosaics_v2
Name: elevation/pgc_rema_mosaics_v2
Description:
Single Fused Map Cache: false
Extent:
XMin: -2700100
YMin: -2500100
XMax: 2750100
YMax: 3342100
Spatial Reference: 3031
(3031)
Initial Extent:
XMin: -2700100
YMin: -2500100
XMax: 2750100
YMax: 3342100
Spatial Reference: 3031
(3031)
Full Extent:
XMin: -2700100
YMin: -2500100
XMax: 2750100
YMax: 3342100
Spatial Reference: 3031
(3031)
Pixel Size X: 2.0
Pixel Size Y: 2.0
Band Count: 1
Pixel Type: F32
RasterFunction Infos: {"rasterFunctionInfos": [
{
"name": "None",
"description": "Make a Raster or Raster Dataset into a Function Raster Dataset.",
"help": ""
},
{
"name": "None",
"description": "Make a Raster or Raster Dataset into a Function Raster Dataset.",
"help": ""
},
{
"name": "Aspect Degrees",
"description": "This server-side function will apply an on-the-fly process to the input elevation data to generate an aspect layer.",
"help": ""
},
{
"name": "Aspect Map",
"description": "This server-side function will apply an on-the-fly process to the input elevation data to generate a color visualization of aspect. ",
"help": ""
},
{
"name": "Contour 25",
"description": "Provides 25m contours for the area of interest dynamically generated using the contour server-side function.",
"help": ""
},
{
"name": "Contour Smoothed 25",
"description": "Provides 25m smoothed contours for the area of interest dynamically generated using the contour server-side function.",
"help": ""
},
{
"name": "Height Ellipsoidal",
"description": "This represents the original WGS84 ellipsoidal heights",
"help": ""
},
{
"name": "Height Orthometric",
"description": "This server side raster function converts the original WGS84 ellipsoidal heights to EGM08 orthometric\n heights\n ",
"help": ""
},
{
"name": "Hillshade Elevation Tinted",
"description": "This server-side function will apply an on-the-fly process to the input elevation data to generate a tinted hillshade.",
"help": ""
},
{
"name": "Hillshade Gray",
"description": "Provides a hillshaded surface generated dynamically using the hillshade server-side function on the elevation layer with a solar azimuth of 315 degrees and solar altitude of 45 degrees. Z-factor defaults to 4, but can be specified via the the REST API.",
"help": ""
},
{
"name": "Hillshade Multidirectional",
"description": "This server-side function will apply an on-the-fly process to the input elevation values to generate a multi-directional hillshade. This algorithm computes hillshade from six different directions, where each hillshade is multiplied by a weight and thereafter the sum of all is normalized to produce the final output.",
"help": ""
},
{
"name": "Slope Degrees",
"description": "This server-side function will apply an on-the-fly process to the input elevation data to generate a service returning slope (in degrees, from 0 to 90). ",
"help": ""
},
{
"name": "Slope Map",
"description": "This server-side function will apply an on-the-fly process to the input elevation data to generate a color visualization of slope, where flat surfaces are gray, shallow slopes are yellow, and steep slopes are red-brown.",
"help": ""
}
]}
Mensuration Capabilities: None
Has Histograms: true
Has Colormap: false
Has Multi Dimensions : false
Rendering Rule:
Min Scale: 0
Max Scale: 0
Copyright Text:
Service Data Type: esriImageServiceDataTypeGeneric
Min Values: -60.59941101074219
Max Values: 4232.18212890625
Mean Values: 1810.063572137593
Standard Deviation Values: 1239.836138213184
Object ID Field: objectid
Fields:
-
objectid
(
type: esriFieldTypeOID, alias: OBJECTID
)
-
name
(
type: esriFieldTypeString, alias: Name, length: 200
)
-
minps
(
type: esriFieldTypeDouble, alias: MinPS
)
-
maxps
(
type: esriFieldTypeDouble, alias: MaxPS
)
-
lowps
(
type: esriFieldTypeDouble, alias: LowPS
)
-
highps
(
type: esriFieldTypeDouble, alias: HighPS
)
-
category
(
type: esriFieldTypeInteger, alias: Category
, Coded Values:
[0: Unknown]
, [1: Primary]
, [2: Overview]
, ...6 more...
)
-
tag
(
type: esriFieldTypeString, alias: Tag, length: 100
)
-
groupname
(
type: esriFieldTypeString, alias: GroupName, length: 100
)
-
productname
(
type: esriFieldTypeString, alias: ProductName, length: 100
)
-
centerx
(
type: esriFieldTypeDouble, alias: CenterX
)
-
centery
(
type: esriFieldTypeDouble, alias: CenterY
)
-
zorder
(
type: esriFieldTypeInteger, alias: ZOrder
)
-
shape
(
type: esriFieldTypeGeometry, alias: Shape
)
Default Mosaic Method: Northwest
Allowed Mosaic Methods: NorthWest,Center,LockRaster,ByAttribute,Nadir,Viewpoint,Seamline,None
SortField:
SortValue: null
Mosaic Operator: First
Default Compression Quality: 75
Default Resampling Method: Bilinear
Max Record Count: 1000
Max Image Height: 4100
Max Image Width: 15000
Max Download Image Count: 20
Max Mosaic Image Count: 20
Allow Raster Function: true
Allow Copy: true
Allow Analysis: true
Allow Compute TiePoints: false
Supports Statistics: true
Supports Advanced Queries: true
Use StandardizedQueries: true
Raster Type Infos:
Name: Raster Dataset
Description: Supports all ArcGIS Raster Datasets
Help:
Has Raster Attribute Table: false
Edit Fields Info: null
Ownership Based AccessControl For Rasters: null
Child Resources:
Info
Histograms
Statistics
Key Properties
Legend
Raster Function Infos
Supported Operations:
Export Image
Query
Identify
Compute Histograms
Compute Statistics Histograms
Get Samples
Compute Class Statistics
Query Boundary
Compute Pixel Location
Compute Angles
Validate
Project