View In:
ArcGIS JavaScript
ArcGIS Online map viewer
Google Earth
ArcMap
View Footprint In:
ArcGIS Online map viewer
Service Description: elevation/pgc_arcticdem_mosaics_v3
Name: elevation/pgc_arcticdem_mosaics_v3
Description: elevation/pgc_arcticdem_mosaics_v3
Single Fused Map Cache: false
Extent:
XMin: -4000000
YMin: -3400000
XMax: 3400000
YMax: 4100000
Spatial Reference: 3413
(3413)
Initial Extent:
XMin: -4000000
YMin: -3400000
XMax: 3400000
YMax: 4100000
Spatial Reference: 3413
(3413)
Full Extent:
XMin: -4000000
YMin: -3400000
XMax: 3400000
YMax: 4100000
Spatial Reference: 3413
(3413)
Pixel Size X: 2.0
Pixel Size Y: 2.0
Band Count: 1
Pixel Type: F32
RasterFunction Infos: {"name":"None","description":"A No-Op Function.","help":""}, {"name":"Hillshade","description":"Hillshade function.","help":""}
Mensuration Capabilities: Basic
Has Histograms: true
Has Colormap: false
Has Multi Dimensions : false
Rendering Rule:
Min Scale: 0
Max Scale: 0
Copyright Text:
Service Data Type: esriImageServiceDataTypeElevation
Min Values: -1087.901611328125
Max Values: 6200.0244140625
Mean Values: 486.9849268998007
Standard Deviation Values: 659.6684377025019
Object ID Field: objectid
Fields:
-
objectid
(
type: esriFieldTypeOID
, alias: objectid
)
-
name
(
type: esriFieldTypeString
, alias: name
, length: 200
)
-
minps
(
type: esriFieldTypeDouble
, alias: minps
)
-
maxps
(
type: esriFieldTypeDouble
, alias: maxps
)
-
lowps
(
type: esriFieldTypeDouble
, alias: lowps
)
-
highps
(
type: esriFieldTypeDouble
, alias: highps
)
-
category
(
type: esriFieldTypeInteger
, alias: category
, Coded Values:
[0: Unknown]
, [1: Primary]
, [2: Overview]
, ...6 more...
)
-
tag
(
type: esriFieldTypeString
, alias: tag
, length: 100
)
-
groupname
(
type: esriFieldTypeString
, alias: groupname
, length: 100
)
-
productname
(
type: esriFieldTypeString
, alias: productname
, length: 100
)
-
centerx
(
type: esriFieldTypeDouble
, alias: centerx
)
-
centery
(
type: esriFieldTypeDouble
, alias: centery
)
-
zorder
(
type: esriFieldTypeInteger
, alias: zorder
)
-
shape
(
type: esriFieldTypeGeometry
, alias: shape
)
-
pgc_id
(
type: esriFieldTypeString
, alias: PGC ID
, length: 100
)
-
prod_code
(
type: esriFieldTypeString
, alias: PGC Product Code
, length: 20
)
-
dataset_name
(
type: esriFieldTypeString
, alias: Dataset Name
, length: 100
)
-
status
(
type: esriFieldTypeString
, alias: Status
, length: 20
)
-
tile
(
type: esriFieldTypeString
, alias: Tile
, length: 100
)
-
subtile
(
type: esriFieldTypeString
, alias: Subtile
, length: 100
)
-
acqdate
(
type: esriFieldTypeDate
, alias: Acquisition Date
, length: 8
)
-
acqdate_s
(
type: esriFieldTypeString
, alias: Acquisition Date
, length: 20
)
-
sensor
(
type: esriFieldTypeString
, alias: Sensor
, length: 50
)
-
bands
(
type: esriFieldTypeDouble
, alias: Band Count
)
-
cloudcover
(
type: esriFieldTypeDouble
, alias: Cloud Cover
)
-
sun_elev
(
type: esriFieldTypeDouble
, alias: Sun Elevation
)
-
off_nadir
(
type: esriFieldTypeDouble
, alias: Off Nadir Angle
)
-
res
(
type: esriFieldTypeDouble
, alias: Resolution
)
-
bits_pixel
(
type: esriFieldTypeSmallInteger
, alias: Bit Depth
)
-
nd_value
(
type: esriFieldTypeDouble
, alias: NoData Value
)
-
spec_type
(
type: esriFieldTypeString
, alias: Spectral Type
, length: 50
)
-
cent_lat
(
type: esriFieldTypeDouble
, alias: Center Latitude
)
-
cent_lon
(
type: esriFieldTypeDouble
, alias: Center Longitude
)
-
epsg
(
type: esriFieldTypeInteger
, alias: EPSG Code
)
-
vert_datum
(
type: esriFieldTypeString
, alias: Vertical Datum
, length: 20
)
-
volume
(
type: esriFieldTypeString
, alias: Volume
, length: 20
)
-
filepath
(
type: esriFieldTypeString
, alias: Filepath
, length: 512
)
-
filename
(
type: esriFieldTypeString
, alias: Filename
, length: 256
)
-
rasterpath
(
type: esriFieldTypeString
, alias: Rasterpath
, length: 1024
)
-
has_preview
(
type: esriFieldTypeSmallInteger
, alias: Has Preview?
)
-
previewpath
(
type: esriFieldTypeString
, alias: Preview Path
, length: 1024
)
-
fileurl
(
type: esriFieldTypeString
, alias: Download URL
, length: 1024
)
-
qual
(
type: esriFieldTypeDouble
, alias: Quality Ranking (0-1)
)
-
st_area(shape)
(
type: esriFieldTypeDouble
, alias: st_area(shape)
)
-
st_length(shape)
(
type: esriFieldTypeDouble
, alias: st_length(shape)
)
Default Mosaic Method: Northwest
Allowed Mosaic Methods: NorthWest,Center,LockRaster,ByAttribute,Nadir,Viewpoint,Seamline,None
SortField:
SortValue: null
Mosaic Operator: First
Default Compression Quality: 500000
Default Resampling Method: Nearest
Max Record Count: 1000
Max Image Height: 4100
Max Image Width: 15000
Max Download Image Count: 0
Max Mosaic Image Count: 100
Allow Raster Function: true
Allow Compute TiePoints: false
Supports Statistics: true
Supports Advanced Queries: true
Use StandardizedQueries: true
Raster Type Infos:
Name: Raster Dataset
Description: Supports all ArcGIS Raster Datasets
Help:
Has Raster Attribute Table: false
Edit Fields Info: null
Ownership Based AccessControl For Rasters: null
Child Resources:
Info
Histograms
Key Properties
Legend
MultiDimensionalInfo
rasterFunctionInfos
Supported Operations:
Export Image
Query
Identify
Measure
Compute Histograms
Compute Statistics Histograms
Get Samples
Compute Class Statistics