View In:
ArcGIS JavaScript
ArcGIS Online map viewer
Google Earth
ArcMap
View Footprint In:
ArcGIS Online map viewer
Service Description: The DEM mosaics provided in this data set were generated from very-high-resolution (VHR) along- and crosstrack stereoscopic imagery from DigitalGlobe satellites. To generate DEM mosaic tiles, over 4000 DEM strips were merged with a weighted-average mosaicking
routine that reduced errors and removed seams. Mosaic tiles are 100 km by 100 km with 12500 x 12500 pixels at 8 m.
This data set reports elevation in meters above the WGS84 ellipsoid. The mosaics are derived from all available DEMs, regardless of date or sensor. The values represent a weighted average of all valid elevations at each pixel. Weights are assigned to penalize isolated pixels or “islands,” so that values from more spatially continuous DEMs have higher weights. The fill value for pixels containing no data is -9999.
Name: elevation/nsidc_shean_hma_dem_mosaic_8m
Description: The DEM mosaics provided in this data set were generated from very-high-resolution (VHR) along- and crosstrack stereoscopic imagery from DigitalGlobe satellites. To generate DEM mosaic tiles, over 4000 DEM strips were merged with a weighted-average mosaicking
routine that reduced errors and removed seams. Mosaic tiles are 100 km by 100 km with 12500 x 12500 pixels at 8 m.
This data set reports elevation in meters above the WGS84 ellipsoid. The mosaics are derived from all available DEMs, regardless of date or sensor. The values represent a weighted average of all valid elevations at each pixel. Weights are assigned to penalize isolated pixels or “islands,” so that values from more spatially continuous DEMs have higher weights. The fill value for pixels containing no data is -9999.
Single Fused Map Cache: false
Extent:
XMin: 7379015.0594
YMin: 3049014.9848999977
XMax: 1.15475910594E7
YMax: 5803278.984899998
Spatial Reference: 102100
(3857)
Initial Extent:
XMin: 7379015.0594
YMin: 3049014.9848999977
XMax: 1.15475910594E7
YMax: 5803278.984899998
Spatial Reference: 102100
(3857)
Full Extent:
XMin: 7379015.0594
YMin: 3049014.9848999977
XMax: 1.15475910594E7
YMax: 5803278.984899998
Spatial Reference: 102100
(3857)
Pixel Size X: 8.0
Pixel Size Y: 8.0
Band Count: 1
Pixel Type: F32
RasterFunction Infos: {"name":"None","description":"","help":""}
Mensuration Capabilities: None
Has Histograms: true
Has Colormap: false
Has Multi Dimensions : false
Rendering Rule:
Min Scale: 0
Max Scale: 0
Copyright Text: NASA NSIDC DAAC
Service Data Type: esriImageServiceDataTypeElevation
Min Values: -982.041748046875
Max Values: 17811.943359375
Mean Values: 3586.5694280100997
Standard Deviation Values: 1476.2627097017048
Object ID Field: objectid
Fields:
-
objectid
(
type: esriFieldTypeOID
, alias: objectid
)
-
name
(
type: esriFieldTypeString
, alias: name
, length: 200
)
-
minps
(
type: esriFieldTypeDouble
, alias: minps
)
-
maxps
(
type: esriFieldTypeDouble
, alias: maxps
)
-
lowps
(
type: esriFieldTypeDouble
, alias: lowps
)
-
highps
(
type: esriFieldTypeDouble
, alias: highps
)
-
category
(
type: esriFieldTypeInteger
, alias: category
, Coded Values:
[0: Unknown]
, [1: Primary]
, [2: Overview]
, ...6 more...
)
-
tag
(
type: esriFieldTypeString
, alias: tag
, length: 100
)
-
groupname
(
type: esriFieldTypeString
, alias: groupname
, length: 100
)
-
productname
(
type: esriFieldTypeString
, alias: productname
, length: 100
)
-
centerx
(
type: esriFieldTypeDouble
, alias: centerx
)
-
centery
(
type: esriFieldTypeDouble
, alias: centery
)
-
zorder
(
type: esriFieldTypeInteger
, alias: zorder
)
-
shape
(
type: esriFieldTypeGeometry
, alias: shape
)
-
st_area(shape)
(
type: esriFieldTypeDouble
, alias: st_area(shape)
)
-
st_length(shape)
(
type: esriFieldTypeDouble
, alias: st_length(shape)
)
Default Mosaic Method: Northwest
Allowed Mosaic Methods: NorthWest,Center,LockRaster,ByAttribute,Nadir,Viewpoint,Seamline,None
SortField:
SortValue: null
Mosaic Operator: First
Default Compression Quality: 100000
Default Resampling Method: Bilinear
Max Record Count: 1000
Max Image Height: 4100
Max Image Width: 15000
Max Download Image Count: 0
Max Mosaic Image Count: 100
Allow Raster Function: true
Allow Compute TiePoints: false
Supports Statistics: true
Supports Advanced Queries: true
Use StandardizedQueries: true
Raster Type Infos:
Name: Raster Dataset
Description: Supports all ArcGIS Raster Datasets
Help:
Has Raster Attribute Table: false
Edit Fields Info: null
Ownership Based AccessControl For Rasters: null
Child Resources:
Info
Histograms
Key Properties
Legend
MultiDimensionalInfo
rasterFunctionInfos
Supported Operations:
Export Image
Query
Identify
Compute Histograms
Compute Statistics Histograms
Get Samples
Compute Class Statistics