View In:
ArcGIS JavaScript
ArcGIS Online map viewer
Google Earth
ArcMap
View Footprint In:
ArcGIS Online map viewer
Service Description: elevation/WGS84_to_EGM2008
Name: elevation/WGS84_to_EGM2008
Description: elevation/WGS84_to_EGM2008
Single Fused Map Cache: false
Extent:
XMin: -180
YMin: -90.00000000000014
XMax: 180.00000000000028
YMax: 90
Spatial Reference: 4326
(4326)
Initial Extent:
XMin: -180
YMin: -90.00000000000014
XMax: 180.00000000000028
YMax: 90
Spatial Reference: 4326
(4326)
Full Extent:
XMin: -180
YMin: -90.00000000000014
XMax: 180.00000000000028
YMax: 90
Spatial Reference: 4326
(4326)
Pixel Size X: 0.0416666666666667
Pixel Size Y: 0.0416666666666667
Band Count: 1
Pixel Type: F32
RasterFunction Infos: {"name":"None","description":"","help":""}
Mensuration Capabilities: Basic
Has Histograms: true
Has Colormap: false
Has Multi Dimensions : false
Rendering Rule:
Min Scale: 0
Max Scale: 0
Copyright Text:
Service Data Type: esriImageServiceDataTypeGeneric
Min Values: -106.90899658203125
Max Values: 85.82398223876953
Mean Values: -1.3212732177781548
Standard Deviation Values: 29.24592934918173
Object ID Field:
Fields:
None
Default Mosaic Method: Center
Allowed Mosaic Methods:
SortField:
SortValue: null
Mosaic Operator: First
Default Compression Quality: 75
Default Resampling Method: Bilinear
Max Record Count: null
Max Image Height: 4100
Max Image Width: 15000
Max Download Image Count: null
Max Mosaic Image Count: null
Allow Raster Function: true
Allow Compute TiePoints: false
Supports Statistics: false
Supports Advanced Queries: false
Use StandardizedQueries: true
Raster Type Infos:
Name: Raster Dataset
Description: Supports all ArcGIS Raster Datasets
Help:
Has Raster Attribute Table: false
Edit Fields Info: null
Ownership Based AccessControl For Rasters: null
Child Resources:
Info
Histograms
Key Properties
Legend
MultiDimensionalInfo
rasterFunctionInfos
Supported Operations:
Export Image
Identify
Measure
Compute Histograms
Compute Statistics Histograms
Get Samples
Compute Class Statistics