{
 "currentVersion": 10.91,
 "cimVersion": "2.9.0",
 "serviceDescription": "Maps are georeferenced and trimmed to map frame",
 "mapName": "Layers",
 "description": "Maps are georeferenced and trimmed to map frame",
 "copyrightText": "United States Geological Survey",
 "supportsDynamicLayers": true,
 "layers": [
  {
   "id": 0,
   "name": "USGS 500k Antarctic Sketch Maps",
   "parentLayerId": -1,
   "defaultVisibility": true,
   "subLayerIds": [
    1,
    2,
    3,
    4,
    5,
    6,
    7,
    8,
    9
   ],
   "minScale": 0,
   "maxScale": 0,
   "type": "Group Layer",
   "supportsDynamicLegends": false
  },
  {
   "id": 1,
   "name": "Bakutis Coast to Marie Byrd Land.tif",
   "parentLayerId": 0,
   "defaultVisibility": true,
   "subLayerIds": null,
   "minScale": 0,
   "maxScale": 0,
   "type": "Raster Layer",
   "supportsDynamicLegends": true
  },
  {
   "id": 2,
   "name": "Bryan Coast to Ellsworth Land.tif",
   "parentLayerId": 0,
   "defaultVisibility": true,
   "subLayerIds": null,
   "minScale": 0,
   "maxScale": 0,
   "type": "Raster Layer",
   "supportsDynamicLegends": true
  },
  {
   "id": 3,
   "name": "Ellsworth Land to Palmer Land.tif",
   "parentLayerId": 0,
   "defaultVisibility": true,
   "subLayerIds": null,
   "minScale": 0,
   "maxScale": 0,
   "type": "Raster Layer",
   "supportsDynamicLegends": true
  },
  {
   "id": 4,
   "name": "Hobbs Coast to Marie Byrd Land.tif",
   "parentLayerId": 0,
   "defaultVisibility": true,
   "subLayerIds": null,
   "minScale": 0,
   "maxScale": 0,
   "type": "Raster Layer",
   "supportsDynamicLegends": true
  },
  {
   "id": 5,
   "name": "Northern Victoria Land.tif",
   "parentLayerId": 0,
   "defaultVisibility": true,
   "subLayerIds": null,
   "minScale": 0,
   "maxScale": 0,
   "type": "Raster Layer",
   "supportsDynamicLegends": true
  },
  {
   "id": 6,
   "name": "Palmer Land North.tif",
   "parentLayerId": 0,
   "defaultVisibility": true,
   "subLayerIds": null,
   "minScale": 0,
   "maxScale": 0,
   "type": "Raster Layer",
   "supportsDynamicLegends": true
  },
  {
   "id": 7,
   "name": "Ross Ice Shelf.tif",
   "parentLayerId": 0,
   "defaultVisibility": true,
   "subLayerIds": null,
   "minScale": 0,
   "maxScale": 0,
   "type": "Raster Layer",
   "supportsDynamicLegends": true
  },
  {
   "id": 8,
   "name": "Saunders Coast to Marie Byrd Land.tif",
   "parentLayerId": 0,
   "defaultVisibility": true,
   "subLayerIds": null,
   "minScale": 0,
   "maxScale": 0,
   "type": "Raster Layer",
   "supportsDynamicLegends": true
  },
  {
   "id": 9,
   "name": "Thurston Island to Jones Mountains.tif",
   "parentLayerId": 0,
   "defaultVisibility": true,
   "subLayerIds": null,
   "minScale": 0,
   "maxScale": 0,
   "type": "Raster Layer",
   "supportsDynamicLegends": true
  }
 ],
 "tables": [],
 "spatialReference": {
  "wkid": 3031,
  "latestWkid": 3031,
  "xyTolerance": 0.001,
  "zTolerance": 0.001,
  "mTolerance": 0.001,
  "falseX": -30636100,
  "falseY": -30636100,
  "xyUnits": 1.4700303326371488E8,
  "falseZ": -100000,
  "zUnits": 10000,
  "falseM": -100000,
  "mUnits": 10000
 },
 "singleFusedMapCache": true,
 "tileInfo": {
  "rows": 512,
  "cols": 512,
  "dpi": 96,
  "format": "MIXED",
  "compressionQuality": 75,
  "origin": {
   "x": -30636100,
   "y": 30636100
  },
  "spatialReference": {
   "wkid": 3031,
   "latestWkid": 3031,
   "xyTolerance": 0.001,
   "zTolerance": 0.001,
   "mTolerance": 0.001,
   "falseX": -30636100,
   "falseY": -30636100,
   "xyUnits": 1.4700303326371488E8,
   "falseZ": -100000,
   "zUnits": 10000,
   "falseM": -100000,
   "mUnits": 10000
  },
  "lods": [
   {
    "level": 0,
    "resolution": 32000.000000000004,
    "scale": 120944640
   },
   {
    "level": 1,
    "resolution": 16000.000000000002,
    "scale": 60472320
   },
   {
    "level": 2,
    "resolution": 8000.000000000001,
    "scale": 30236160
   },
   {
    "level": 3,
    "resolution": 4000.0000000000005,
    "scale": 15118080
   },
   {
    "level": 4,
    "resolution": 2000.0000000000002,
    "scale": 7559040
   },
   {
    "level": 5,
    "resolution": 1000.0000000000001,
    "scale": 3779520
   },
   {
    "level": 6,
    "resolution": 500.00000000000006,
    "scale": 1889760
   },
   {
    "level": 7,
    "resolution": 250.00000000000003,
    "scale": 944880
   },
   {
    "level": 8,
    "resolution": 120.00000000000001,
    "scale": 453542.4
   },
   {
    "level": 9,
    "resolution": 60.00000000000001,
    "scale": 226771.2
   },
   {
    "level": 10,
    "resolution": 30.000000000000004,
    "scale": 113385.6
   },
   {
    "level": 11,
    "resolution": 15.000000000000002,
    "scale": 56692.8
   },
   {
    "level": 12,
    "resolution": 8,
    "scale": 30236.16
   },
   {
    "level": 13,
    "resolution": 4,
    "scale": 15118.08
   },
   {
    "level": 14,
    "resolution": 2,
    "scale": 7559.04
   },
   {
    "level": 15,
    "resolution": 1,
    "scale": 3779.52
   },
   {
    "level": 16,
    "resolution": 0.5,
    "scale": 1889.76
   }
  ]
 },
 "storageInfo": {
  "storageFormat": "esriMapCacheStorageModeCompactV2",
  "packetSize": 128
 },
 "initialExtent": {
  "xmin": -2047325.362850672,
  "ymin": -1857903.1366914911,
  "xmax": 758252.2107673753,
  "ymax": 1123341.2722982853,
  "spatialReference": {
   "wkid": 3031,
   "latestWkid": 3031,
   "xyTolerance": 0.001,
   "zTolerance": 0.001,
   "mTolerance": 0.001,
   "falseX": -30636100,
   "falseY": -30636100,
   "xyUnits": 1.4700303326371488E8,
   "falseZ": -100000,
   "zUnits": 10000,
   "falseM": -100000,
   "mUnits": 10000
  }
 },
 "fullExtent": {
  "xmin": -2273126.1467430717,
  "ymin": -2278174.5101684364,
  "xmax": 953226.5983540999,
  "ymax": 1209493.389165929,
  "spatialReference": {
   "wkid": 3031,
   "latestWkid": 3031,
   "xyTolerance": 0.001,
   "zTolerance": 0.001,
   "mTolerance": 0.001,
   "falseX": -30636100,
   "falseY": -30636100,
   "xyUnits": 1.4700303326371488E8,
   "falseZ": -100000,
   "zUnits": 10000,
   "falseM": -100000,
   "mUnits": 10000
  }
 },
 "datesInUnknownTimezone": false,
 "minScale": 120944640,
 "maxScale": 1889.76,
 "units": "esriMeters",
 "supportedImageFormatTypes": "PNG32,PNG24,PNG,JPG,DIB,TIFF,EMF,PS,PDF,GIF,SVG,SVGZ,BMP",
 "documentInfo": {
  "Title": "Untitled.aprx",
  "Author": "",
  "Comments": "Maps are georeferenced and trimmed to map frame",
  "Subject": "Tiled and caches map service with 1:50,000 USGS Topographic Reconnaissance Series.",
  "Category": "",
  "AntialiasingMode": "None",
  "TextAntialiasingMode": "Force",
  "Version": "2.9.0",
  "Keywords": "USGS;Maps;Antarctica;PGC;Polar Geospatial Center"
 },
 "capabilities": "Map,Data,Query",
 "supportedQueryFormats": "JSON, geoJSON, PBF",
 "exportTilesAllowed": false,
 "referenceScale": 0.0,
 "supportsDatumTransformation": true,
 "archivingInfo": {
  "supportsHistoricMoment": false
 },
 "supportsClipping": true,
 "supportsSpatialFilter": true,
 "supportsTimeRelation": true,
 "supportsQueryDataElements": true,
 "maxRecordCount": 1000,
 "maxImageHeight": 4096,
 "maxImageWidth": 4096,
 "supportedExtensions": "KmlServer, WCSServer, WMSServer"
}
