{
 "currentVersion": 10.91,
 "cimVersion": "2.9.0",
 "serviceDescription": "The Antarctic Composite Basemap is a tiled map service that includes the 15mLandsat Image Mosaic of Antarctica (LIMA) with a 250m MODIS mosaic to fill the hole south of 82.5°S. The tiling scheme is based on the PGC Antarctic Polar Stereographic tiling scheme with pre-cached levels down to 15 meter pixel size (approximate scale of 1:32,000). For more information, visit lima.usgs.gov or contact the PGC at pgc@umn.edu.",
 "mapName": "Layers",
 "description": "",
 "copyrightText": "USGS, BAS, NASA, Polar Geospatial Center",
 "supportsDynamicLayers": true,
 "layers": [
  {
   "id": 0,
   "name": "PGC Antarctic Composite Mosaic",
   "parentLayerId": -1,
   "defaultVisibility": true,
   "subLayerIds": [
    1,
    2,
    3
   ],
   "minScale": 0,
   "maxScale": 0,
   "type": "Mosaic Layer",
   "supportsDynamicLegends": false
  },
  {
   "id": 1,
   "name": "Boundary",
   "parentLayerId": 0,
   "defaultVisibility": false,
   "subLayerIds": null,
   "minScale": 0,
   "maxScale": 0,
   "type": "Feature Layer",
   "geometryType": "esriGeometryPolygon",
   "supportsDynamicLegends": true
  },
  {
   "id": 2,
   "name": "Footprint",
   "parentLayerId": 0,
   "defaultVisibility": false,
   "subLayerIds": null,
   "minScale": 0,
   "maxScale": 0,
   "type": "Feature Layer",
   "geometryType": "esriGeometryPolygon",
   "supportsDynamicLegends": true
  },
  {
   "id": 3,
   "name": "Image",
   "parentLayerId": 0,
   "defaultVisibility": true,
   "subLayerIds": null,
   "minScale": 0,
   "maxScale": 0,
   "type": "Raster Layer",
   "supportsDynamicLegends": true
  }
 ],
 "tables": [],
 "spatialReference": {
  "wkid": 3031,
  "latestWkid": 3031,
  "xyTolerance": 0.001,
  "zTolerance": 0.001,
  "mTolerance": 0.001,
  "falseX": -30636100,
  "falseY": -30636100,
  "xyUnits": 1.4700303326371488E8,
  "falseZ": -100000,
  "zUnits": 10000,
  "falseM": -100000,
  "mUnits": 10000
 },
 "singleFusedMapCache": true,
 "tileInfo": {
  "rows": 256,
  "cols": 256,
  "dpi": 96,
  "format": "MIXED",
  "compressionQuality": 75,
  "origin": {
   "x": -30636100,
   "y": 3.0636099999999993E7
  },
  "spatialReference": {
   "wkid": 3031,
   "latestWkid": 3031,
   "xyTolerance": 0.001,
   "zTolerance": 0.001,
   "mTolerance": 0.001,
   "falseX": -30636100,
   "falseY": -30636100,
   "xyUnits": 1.4700303326371488E8,
   "falseZ": -100000,
   "zUnits": 10000,
   "falseM": -100000,
   "mUnits": 10000
  },
  "lods": [
   {
    "level": 0,
    "resolution": 32000.000000000004,
    "scale": 120944640
   },
   {
    "level": 1,
    "resolution": 16000.000000000002,
    "scale": 60472320
   },
   {
    "level": 2,
    "resolution": 8000.000000000001,
    "scale": 30236160
   },
   {
    "level": 3,
    "resolution": 4000.0000000000005,
    "scale": 15118080
   },
   {
    "level": 4,
    "resolution": 2000.0000000000002,
    "scale": 7559040
   },
   {
    "level": 5,
    "resolution": 1000.0000000000001,
    "scale": 3779520
   },
   {
    "level": 6,
    "resolution": 500.00000000000006,
    "scale": 1889760
   },
   {
    "level": 7,
    "resolution": 250.00000000000003,
    "scale": 944880
   },
   {
    "level": 8,
    "resolution": 120.00000000000001,
    "scale": 453542.4
   },
   {
    "level": 9,
    "resolution": 60.00000000000001,
    "scale": 226771.2
   },
   {
    "level": 10,
    "resolution": 30.000000000000004,
    "scale": 113385.6
   },
   {
    "level": 11,
    "resolution": 15.000000000000002,
    "scale": 56692.8
   }
  ]
 },
 "storageInfo": {
  "storageFormat": "esriMapCacheStorageModeCompactV2",
  "packetSize": 128
 },
 "initialExtent": {
  "xmin": -7103497.605142962,
  "ymin": -7600446.818774933,
  "xmax": 1.1205386096020602E7,
  "ymax": 4430811.774975084,
  "spatialReference": {
   "wkid": 3031,
   "latestWkid": 3031,
   "xyTolerance": 0.001,
   "zTolerance": 0.001,
   "mTolerance": 0.001,
   "falseX": -30636100,
   "falseY": -30636100,
   "xyUnits": 1.4700303326371488E8,
   "falseZ": -100000,
   "zUnits": 10000,
   "falseM": -100000,
   "mUnits": 10000
  }
 },
 "fullExtent": {
  "xmin": -3000000,
  "ymin": -3000000,
  "xmax": 3000000.0001000017,
  "ymax": 4000005,
  "spatialReference": {
   "wkid": 3031,
   "latestWkid": 3031,
   "xyTolerance": 0.001,
   "zTolerance": 0.001,
   "mTolerance": 0.001,
   "falseX": -30636100,
   "falseY": -30636100,
   "xyUnits": 1.4700303326371488E8,
   "falseZ": -100000,
   "zUnits": 10000,
   "falseM": -100000,
   "mUnits": 10000
  }
 },
 "datesInUnknownTimezone": false,
 "minScale": 120944640,
 "maxScale": 56692.8,
 "minLOD": 0,
 "maxLOD": 11,
 "units": "esriMeters",
 "supportedImageFormatTypes": "PNG32,PNG24,PNG,JPG,DIB,TIFF,EMF,PS,PDF,GIF,SVG,SVGZ,BMP",
 "documentInfo": {
  "Title": "PGC Antarctic Composite Mosaic",
  "Author": "",
  "Comments": "",
  "Subject": "",
  "Category": "",
  "AntialiasingMode": "None",
  "TextAntialiasingMode": "Force",
  "Version": "2.9.0",
  "Keywords": "imagery;Antarcitca;LIMA;Landsat;PGC;Polar Geospatial Center;NASA;USGS;"
 },
 "capabilities": "Map,Data,Query",
 "supportedQueryFormats": "JSON, geoJSON, PBF",
 "exportTilesAllowed": false,
 "referenceScale": 0.0,
 "supportsDatumTransformation": true,
 "archivingInfo": {
  "supportsHistoricMoment": false
 },
 "supportsClipping": true,
 "supportsSpatialFilter": true,
 "supportsTimeRelation": true,
 "supportsQueryDataElements": true,
 "maxRecordCount": 1000,
 "maxImageHeight": 4096,
 "maxImageWidth": 4096,
 "supportedExtensions": "KmlServer, WMSServer"
}
