{
 "currentVersion": 10.91,
 "serviceDescription": "elevation/pgc_rema_mosaics_v2",
 "name": "elevation/pgc_rema_mosaics_v2",
 "description": "",
 "extent": {
  "xmin": -2700100,
  "ymin": -2500100,
  "xmax": 2750100,
  "ymax": 3342100,
  "spatialReference": {
   "wkid": 3031,
   "latestWkid": 3031
  }
 },
 "initialExtent": {
  "xmin": -2700100,
  "ymin": -2500100,
  "xmax": 2750100,
  "ymax": 3342100,
  "spatialReference": {
   "wkid": 3031,
   "latestWkid": 3031
  }
 },
 "fullExtent": {
  "xmin": -2700100,
  "ymin": -2500100,
  "xmax": 2750100,
  "ymax": 3342100,
  "spatialReference": {
   "wkid": 3031,
   "latestWkid": 3031
  }
 },
 "hasMultidimensions": false,
 "pixelSizeX": 2,
 "pixelSizeY": 2,
 "datasetFormat": "AMD",
 "uncompressedSize": 31841158440000,
 "blockWidth": 2048,
 "blockHeight": 256,
 "compressionType": "None",
 "bandNames": [
  "Band_1"
 ],
 "allowCopy": true,
 "allowAnalysis": true,
 "bandCount": 1,
 "pixelType": "F32",
 "minPixelSize": 0,
 "maxPixelSize": 0,
 "copyrightText": "",
 "serviceDataType": "esriImageServiceDataTypeGeneric",
 "serviceSourceType": "esriImageServiceSourceTypeMosaicDataset",
 "minValues": [
  -60.59941101074219
 ],
 "maxValues": [
  4232.18212890625
 ],
 "meanValues": [
  1810.063572137593
 ],
 "stdvValues": [
  1239.836138213184
 ],
 "objectIdField": "objectid",
 "fields": [
  {
   "name": "objectid",
   "type": "esriFieldTypeOID",
   "alias": "OBJECTID",
   "domain": null
  },
  {
   "name": "name",
   "type": "esriFieldTypeString",
   "alias": "Name",
   "domain": null,
   "length": 200
  },
  {
   "name": "minps",
   "type": "esriFieldTypeDouble",
   "alias": "MinPS",
   "domain": null
  },
  {
   "name": "maxps",
   "type": "esriFieldTypeDouble",
   "alias": "MaxPS",
   "domain": null
  },
  {
   "name": "lowps",
   "type": "esriFieldTypeDouble",
   "alias": "LowPS",
   "domain": null
  },
  {
   "name": "highps",
   "type": "esriFieldTypeDouble",
   "alias": "HighPS",
   "domain": null
  },
  {
   "name": "category",
   "type": "esriFieldTypeInteger",
   "alias": "Category",
   "domain": {
    "type": "codedValue",
    "name": "MosaicCatalogItemCategoryDomain",
    "description": "Catalog item categories.",
    "codedValues": [
     {
      "name": "Unknown",
      "code": 0
     },
     {
      "name": "Primary",
      "code": 1
     },
     {
      "name": "Overview",
      "code": 2
     },
     {
      "name": "Unprocessed Overview",
      "code": 3
     },
     {
      "name": "Partial Overview",
      "code": 4
     },
     {
      "name": "Inactive",
      "code": 5
     },
     {
      "name": "Uploaded",
      "code": 253
     },
     {
      "name": "Incomplete",
      "code": 254
     },
     {
      "name": "Custom",
      "code": 255
     }
    ],
    "mergePolicy": "esriMPTDefaultValue",
    "splitPolicy": "esriSPTDefaultValue"
   }
  },
  {
   "name": "tag",
   "type": "esriFieldTypeString",
   "alias": "Tag",
   "domain": null,
   "length": 100
  },
  {
   "name": "groupname",
   "type": "esriFieldTypeString",
   "alias": "GroupName",
   "domain": null,
   "length": 100
  },
  {
   "name": "productname",
   "type": "esriFieldTypeString",
   "alias": "ProductName",
   "domain": null,
   "length": 100
  },
  {
   "name": "centerx",
   "type": "esriFieldTypeDouble",
   "alias": "CenterX",
   "domain": null
  },
  {
   "name": "centery",
   "type": "esriFieldTypeDouble",
   "alias": "CenterY",
   "domain": null
  },
  {
   "name": "zorder",
   "type": "esriFieldTypeInteger",
   "alias": "ZOrder",
   "domain": null
  },
  {
   "name": "shape",
   "type": "esriFieldTypeGeometry",
   "alias": "Shape",
   "domain": null
  }
 ],
 "capabilities": "Image,Metadata,Catalog",
 "defaultMosaicMethod": "Northwest",
 "allowedMosaicMethods": "NorthWest,Center,LockRaster,ByAttribute,Nadir,Viewpoint,Seamline,None",
 "sortField": "",
 "sortValue": null,
 "sortAscending": true,
 "mosaicOperator": "First",
 "maxDownloadSizeLimit": 2048,
 "defaultCompressionQuality": 75,
 "defaultResamplingMethod": "Bilinear",
 "maxImageHeight": 4100,
 "maxImageWidth": 15000,
 "maxRecordCount": 1000,
 "maxDownloadImageCount": 20,
 "maxMosaicImageCount": 20,
 "allowRasterFunction": true,
 "rasterFunctionInfos": [
  {
   "name": "None",
   "description": "Make a Raster or Raster Dataset into a Function Raster Dataset.",
   "help": ""
  },
  {
   "name": "None",
   "description": "Make a Raster or Raster Dataset into a Function Raster Dataset.",
   "help": ""
  },
  {
   "name": "Aspect Degrees",
   "description": "This server-side function will apply an on-the-fly process to the input elevation data to generate an aspect layer.",
   "help": ""
  },
  {
   "name": "Aspect Map",
   "description": "This server-side function will apply an on-the-fly process to the input elevation data to generate a color visualization of aspect. ",
   "help": ""
  },
  {
   "name": "Contour 25",
   "description": "Provides 25m contours for the area of interest dynamically generated using the contour server-side function.",
   "help": ""
  },
  {
   "name": "Contour Smoothed 25",
   "description": "Provides 25m smoothed contours for the area of interest dynamically generated using the contour server-side function.",
   "help": ""
  },
  {
   "name": "Height Ellipsoidal",
   "description": "This represents the original WGS84 ellipsoidal heights",
   "help": ""
  },
  {
   "name": "Height Orthometric",
   "description": "This server side raster function converts the original WGS84 ellipsoidal heights to EGM08 orthometric\n heights\n ",
   "help": ""
  },
  {
   "name": "Hillshade Elevation Tinted",
   "description": "This server-side function will apply an on-the-fly process to the input elevation data to generate a tinted hillshade.",
   "help": ""
  },
  {
   "name": "Hillshade Gray",
   "description": "Provides a hillshaded surface generated dynamically using the hillshade server-side function on the elevation layer with a solar azimuth of 315 degrees and solar altitude of 45 degrees. Z-factor defaults to 4, but can be specified via the the REST API.",
   "help": ""
  },
  {
   "name": "Hillshade Multidirectional",
   "description": "This server-side function will apply an on-the-fly process to the input elevation values to generate a multi-directional hillshade. This algorithm computes hillshade from six different directions, where each hillshade is multiplied by a weight and thereafter the sum of all is normalized to produce the final output.",
   "help": ""
  },
  {
   "name": "Slope Degrees",
   "description": "This server-side function will apply an on-the-fly process to the input elevation data to generate a service returning slope (in degrees, from 0 to 90). ",
   "help": ""
  },
  {
   "name": "Slope Map",
   "description": "This server-side function will apply an on-the-fly process to the input elevation data to generate a color visualization of slope, where flat surfaces are gray, shallow slopes are yellow, and steep slopes are red-brown.",
   "help": ""
  }
 ],
 "rasterTypeInfos": [
  {
   "name": "Raster Dataset",
   "description": "Supports all ArcGIS Raster Datasets",
   "help": ""
  }
 ],
 "mensurationCapabilities": "None",
 "hasHistograms": true,
 "hasColormap": false,
 "hasRasterAttributeTable": false,
 "minScale": 0,
 "maxScale": 0,
 "exportTilesAllowed": false,
 "supportsStatistics": true,
 "supportsAdvancedQueries": true,
 "editFieldsInfo": null,
 "ownershipBasedAccessControlForRasters": null,
 "allowComputeTiePoints": false,
 "useStandardizedQueries": true,
 "advancedQueryCapabilities": {
  "useStandardizedQueries": true,
  "supportsStatistics": true,
  "supportsOrderBy": true,
  "supportsDistinct": true,
  "supportsPagination": true
 },
 "spatialReference": {
  "wkid": 3031,
  "latestWkid": 3031
 }
}
