{
 "currentVersion": 10.51,
 "serviceDescription": "elevation/pgc_arcticdem_mosaics_v3",
 "name": "elevation/pgc_arcticdem_mosaics_v3",
 "description": "elevation/pgc_arcticdem_mosaics_v3",
 "extent": {
  "xmin": -4000000,
  "ymin": -3400000,
  "xmax": 3400000,
  "ymax": 4100000,
  "spatialReference": {
   "wkid": 3413,
   "latestWkid": 3413
  }
 },
 "initialExtent": {
  "xmin": -4000000,
  "ymin": -3400000,
  "xmax": 3400000,
  "ymax": 4100000,
  "spatialReference": {
   "wkid": 3413,
   "latestWkid": 3413
  }
 },
 "fullExtent": {
  "xmin": -4000000,
  "ymin": -3400000,
  "xmax": 3400000,
  "ymax": 4100000,
  "spatialReference": {
   "wkid": 3413,
   "latestWkid": 3413
  }
 },
 "heightModelInfo": {
  "heightModel": "orthometric",
  "heightUnit": "meter"
 },
 "pixelSizeX": 2,
 "pixelSizeY": 2,
 "bandCount": 1,
 "pixelType": "F32",
 "minPixelSize": 0,
 "maxPixelSize": 0,
 "copyrightText": "",
 "serviceDataType": "esriImageServiceDataTypeElevation",
 "minValues": [
  -1087.901611328125
 ],
 "maxValues": [
  6200.0244140625
 ],
 "meanValues": [
  486.9849268998007
 ],
 "stdvValues": [
  659.6684377025019
 ],
 "objectIdField": "objectid",
 "fields": [
  {
   "name": "objectid",
   "type": "esriFieldTypeOID",
   "alias": "objectid",
   "domain": null
  },
  {
   "name": "name",
   "type": "esriFieldTypeString",
   "alias": "name",
   "domain": null,
   "length": 200
  },
  {
   "name": "minps",
   "type": "esriFieldTypeDouble",
   "alias": "minps",
   "domain": null
  },
  {
   "name": "maxps",
   "type": "esriFieldTypeDouble",
   "alias": "maxps",
   "domain": null
  },
  {
   "name": "lowps",
   "type": "esriFieldTypeDouble",
   "alias": "lowps",
   "domain": null
  },
  {
   "name": "highps",
   "type": "esriFieldTypeDouble",
   "alias": "highps",
   "domain": null
  },
  {
   "name": "category",
   "type": "esriFieldTypeInteger",
   "alias": "category",
   "domain": {
    "type": "codedValue",
    "name": "MosaicCatalogItemCategoryDomain",
    "codedValues": [
     {
      "name": "Unknown",
      "code": 0
     },
     {
      "name": "Primary",
      "code": 1
     },
     {
      "name": "Overview",
      "code": 2
     },
     {
      "name": "Unprocessed Overview",
      "code": 3
     },
     {
      "name": "Partial Overview",
      "code": 4
     },
     {
      "name": "Inactive",
      "code": 5
     },
     {
      "name": "Uploaded",
      "code": 253
     },
     {
      "name": "Incomplete",
      "code": 254
     },
     {
      "name": "Custom",
      "code": 255
     }
    ],
    "mergePolicy": "esriMPTDefaultValue",
    "splitPolicy": "esriSPTDefaultValue"
   }
  },
  {
   "name": "tag",
   "type": "esriFieldTypeString",
   "alias": "tag",
   "domain": null,
   "length": 100
  },
  {
   "name": "groupname",
   "type": "esriFieldTypeString",
   "alias": "groupname",
   "domain": null,
   "length": 100
  },
  {
   "name": "productname",
   "type": "esriFieldTypeString",
   "alias": "productname",
   "domain": null,
   "length": 100
  },
  {
   "name": "centerx",
   "type": "esriFieldTypeDouble",
   "alias": "centerx",
   "domain": null
  },
  {
   "name": "centery",
   "type": "esriFieldTypeDouble",
   "alias": "centery",
   "domain": null
  },
  {
   "name": "zorder",
   "type": "esriFieldTypeInteger",
   "alias": "zorder",
   "domain": null
  },
  {
   "name": "shape",
   "type": "esriFieldTypeGeometry",
   "alias": "shape",
   "domain": null
  },
  {
   "name": "pgc_id",
   "type": "esriFieldTypeString",
   "alias": "PGC ID",
   "domain": null,
   "length": 100
  },
  {
   "name": "prod_code",
   "type": "esriFieldTypeString",
   "alias": "PGC Product Code",
   "domain": null,
   "length": 20
  },
  {
   "name": "dataset_name",
   "type": "esriFieldTypeString",
   "alias": "Dataset Name",
   "domain": null,
   "length": 100
  },
  {
   "name": "status",
   "type": "esriFieldTypeString",
   "alias": "Status",
   "domain": null,
   "length": 20
  },
  {
   "name": "tile",
   "type": "esriFieldTypeString",
   "alias": "Tile",
   "domain": null,
   "length": 100
  },
  {
   "name": "subtile",
   "type": "esriFieldTypeString",
   "alias": "Subtile",
   "domain": null,
   "length": 100
  },
  {
   "name": "acqdate",
   "type": "esriFieldTypeDate",
   "alias": "Acquisition Date",
   "domain": null,
   "length": 8
  },
  {
   "name": "acqdate_s",
   "type": "esriFieldTypeString",
   "alias": "Acquisition Date",
   "domain": null,
   "length": 20
  },
  {
   "name": "sensor",
   "type": "esriFieldTypeString",
   "alias": "Sensor",
   "domain": null,
   "length": 50
  },
  {
   "name": "bands",
   "type": "esriFieldTypeDouble",
   "alias": "Band Count",
   "domain": null
  },
  {
   "name": "cloudcover",
   "type": "esriFieldTypeDouble",
   "alias": "Cloud Cover",
   "domain": null
  },
  {
   "name": "sun_elev",
   "type": "esriFieldTypeDouble",
   "alias": "Sun Elevation",
   "domain": null
  },
  {
   "name": "off_nadir",
   "type": "esriFieldTypeDouble",
   "alias": "Off Nadir Angle",
   "domain": null
  },
  {
   "name": "res",
   "type": "esriFieldTypeDouble",
   "alias": "Resolution",
   "domain": null
  },
  {
   "name": "bits_pixel",
   "type": "esriFieldTypeSmallInteger",
   "alias": "Bit Depth",
   "domain": null
  },
  {
   "name": "nd_value",
   "type": "esriFieldTypeDouble",
   "alias": "NoData Value",
   "domain": null
  },
  {
   "name": "spec_type",
   "type": "esriFieldTypeString",
   "alias": "Spectral Type",
   "domain": null,
   "length": 50
  },
  {
   "name": "cent_lat",
   "type": "esriFieldTypeDouble",
   "alias": "Center Latitude",
   "domain": null
  },
  {
   "name": "cent_lon",
   "type": "esriFieldTypeDouble",
   "alias": "Center Longitude",
   "domain": null
  },
  {
   "name": "epsg",
   "type": "esriFieldTypeInteger",
   "alias": "EPSG Code",
   "domain": null
  },
  {
   "name": "vert_datum",
   "type": "esriFieldTypeString",
   "alias": "Vertical Datum",
   "domain": null,
   "length": 20
  },
  {
   "name": "volume",
   "type": "esriFieldTypeString",
   "alias": "Volume",
   "domain": null,
   "length": 20
  },
  {
   "name": "filepath",
   "type": "esriFieldTypeString",
   "alias": "Filepath",
   "domain": null,
   "length": 512
  },
  {
   "name": "filename",
   "type": "esriFieldTypeString",
   "alias": "Filename",
   "domain": null,
   "length": 256
  },
  {
   "name": "rasterpath",
   "type": "esriFieldTypeString",
   "alias": "Rasterpath",
   "domain": null,
   "length": 1024
  },
  {
   "name": "has_preview",
   "type": "esriFieldTypeSmallInteger",
   "alias": "Has Preview?",
   "domain": null
  },
  {
   "name": "previewpath",
   "type": "esriFieldTypeString",
   "alias": "Preview Path",
   "domain": null,
   "length": 1024
  },
  {
   "name": "fileurl",
   "type": "esriFieldTypeString",
   "alias": "Download URL",
   "domain": null,
   "length": 1024
  },
  {
   "name": "qual",
   "type": "esriFieldTypeDouble",
   "alias": "Quality Ranking (0-1)",
   "domain": null
  },
  {
   "name": "st_area(shape)",
   "type": "esriFieldTypeDouble",
   "alias": "st_area(shape)",
   "domain": null
  },
  {
   "name": "st_length(shape)",
   "type": "esriFieldTypeDouble",
   "alias": "st_length(shape)",
   "domain": null
  }
 ],
 "capabilities": "Image,Metadata,Catalog,Mensuration",
 "defaultMosaicMethod": "Northwest",
 "allowedMosaicMethods": "NorthWest,Center,LockRaster,ByAttribute,Nadir,Viewpoint,Seamline,None",
 "sortField": "",
 "sortValue": null,
 "mosaicOperator": "First",
 "maxDownloadSizeLimit": 2048,
 "defaultCompressionQuality": 500000,
 "defaultResamplingMethod": "Nearest",
 "maxImageHeight": 4100,
 "maxImageWidth": 15000,
 "maxRecordCount": 1000,
 "maxDownloadImageCount": 0,
 "maxMosaicImageCount": 100,
 "allowRasterFunction": true,
 "rasterFunctionInfos": [
  {
   "name": "None",
   "description": "A No-Op Function.",
   "help": ""
  },
  {
   "name": "Hillshade",
   "description": "Hillshade function.",
   "help": ""
  }
 ],
 "rasterTypeInfos": [
  {
   "name": "Raster Dataset",
   "description": "Supports all ArcGIS Raster Datasets",
   "help": ""
  }
 ],
 "mensurationCapabilities": "Basic",
 "hasHistograms": true,
 "hasColormap": false,
 "hasRasterAttributeTable": false,
 "minScale": 0,
 "maxScale": 0,
 "exportTilesAllowed": false,
 "hasMultidimensions": false,
 "supportsStatistics": true,
 "supportsAdvancedQueries": true,
 "editFieldsInfo": null,
 "ownershipBasedAccessControlForRasters": null,
 "allowComputeTiePoints": false,
 "useStandardizedQueries": true,
 "advancedQueryCapabilities": {
  "useStandardizedQueries": true,
  "supportsStatistics": true,
  "supportsOrderBy": true,
  "supportsDistinct": true,
  "supportsPagination": true
 },
 "spatialReference": {
  "wkid": 3413,
  "latestWkid": 3413
 }
}
